BEGIN:VCALENDAR
VERSION:2.0
PRODID:-//ChamberMaster//Event Calendar 2.0//EN
METHOD:PUBLISH
X-PUBLISHED-TTL:P3D
REFRESH-INTERVAL:P3D
CALSCALE:GREGORIAN
BEGIN:VEVENT
DTSTART:20240127T180000Z
DTEND:20240127T230000Z
X-MICROSOFT-CDO-ALLDAYEVENT:FALSE
SUMMARY:Wollersheim's Annual Port Wine Celebration
DESCRIPTION:Wollersheim's Annual Port Wine Celebration\n\nDate: Saturday\, January 27\, 2024\n\nTime: 12 pm   5 pm\n\nTawny Port: A Journey Unveiled\n\nJoin us on a captivating journey as we unveil our exclusive release\, the 2019 Tawny Port\, meticulously crafted by our esteemed winemaker\, Philippe. With a commitment to excellence\, this Tawny Port undergoes extended aging in American oak barrels\, resulting in a mesmerizing garnet hue and a rich\, nutty flavor. Whether for immediate enjoyment or extended aging\, this classically aged gem beckons you to savor moments with loved ones.\n\nPort Tour: Discover the Art of Craftsmanship\n\nImmerse yourself in the art of craftsmanship with a complimentary self-guided tour from 12:00   4:00. Explore the very space where our Port wines come to life\, gaining insight into the meticulous process that goes into each bottle.\n\nWine & Food: A Symphony for the Palate\n\nOur Bistro opens its doors for a delightful lunch\, featuring special desserts expertly paired with our renowned Port wines. Indulge in a variety of wines by the glass\, including the star of the day   the Tawny Port. Venture into the Winery Store to explore curated flights\, adding a symphony of flavors to your palate.\n\nMusic: A Captivating Performance\n\nFrom 1:00 pm to 4:00 pm\, let the enchanting melodies of Gin\, Chocolate & Bottle Rockets sweep you away in the intimate setting of the Sugarloaf Room. A perfect accompaniment to the celebration\, their performance promises to elevate your experience.\n\nSpecial Seated Tasting: Dive into Elegance\n\nPartake in a special seated tasting featuring the Tawny Port 2019. Delve into the nuances of this exceptional release as our knowledgeable staff guides you through a sensory exploration. Reservations are available on our website.\n\nDistillery: A Spirited Affair\n\nFor those seeking a different kind of delight\, our Distillery offers spirits tastings\, flights\, and hand-crafted cocktails for purchase. Elevate your celebration with a touch of distilled perfection.\n\nAs we invite you to Wollersheim's Annual Port Wine Celebration\, we anticipate a day filled with discovery\, indulgence\, and shared moments. Join us on January 27\, 2024\, from 12 pm to 5 pm\, and be part of a celebration that transcends the ordinary\, embracing the extraordinary world of Wollersheim.
X-ALT-DESC;FMTTYPE=text/html:<div class="xdj266r x11i5rnm xat24cr x1mh8g0r x1vvkbs" color:="" font-size:="" segoe="" style="margin: 0px\; overflow-wrap: break-word\; font-family: " ui="">Wollersheim&#39\;s Annual Port Wine Celebration</div>\n\n<div class="x11i5rnm xat24cr x1mh8g0r x1vvkbs xtlvy1s" color:="" font-size:="" segoe="" style="margin: 0.5em 0px 0px\; overflow-wrap: break-word\; font-family: " ui="">Date: Saturday\, January 27\, 2024<br />\nTime: 12 pm &ndash\; 5 pm</div>\n\n<div class="x11i5rnm xat24cr x1mh8g0r x1vvkbs xtlvy1s" color:="" font-size:="" segoe="" style="margin: 0.5em 0px 0px\; overflow-wrap: break-word\; font-family: " ui="">Tawny Port: A Journey Unveiled</div>\n\n<div class="x11i5rnm xat24cr x1mh8g0r x1vvkbs xtlvy1s" color:="" font-size:="" segoe="" style="margin: 0.5em 0px 0px\; overflow-wrap: break-word\; font-family: " ui="">Join us on a captivating journey as we unveil our exclusive release\, the 2019 Tawny Port\, meticulously crafted by our esteemed winemaker\, Philippe. With a commitment to excellence\, this Tawny Port undergoes extended aging in American oak barrels\, resulting in a mesmerizing garnet hue and a rich\, nutty flavor. Whether for immediate enjoyment or extended aging\, this classically aged gem beckons you to savor moments with loved ones.</div>\n\n<div class="x11i5rnm xat24cr x1mh8g0r x1vvkbs xtlvy1s" color:="" font-size:="" segoe="" style="margin: 0.5em 0px 0px\; overflow-wrap: break-word\; font-family: " ui="">Port Tour: Discover the Art of Craftsmanship</div>\n\n<div class="x11i5rnm xat24cr x1mh8g0r x1vvkbs xtlvy1s" color:="" font-size:="" segoe="" style="margin: 0.5em 0px 0px\; overflow-wrap: break-word\; font-family: " ui="">Immerse yourself in the art of craftsmanship with a complimentary self-guided tour from 12:00 &ndash\; 4:00. Explore the very space where our Port wines come to life\, gaining insight into the meticulous process that goes into each bottle.</div>\n\n<div class="x11i5rnm xat24cr x1mh8g0r x1vvkbs xtlvy1s" color:="" font-size:="" segoe="" style="margin: 0.5em 0px 0px\; overflow-wrap: break-word\; font-family: " ui="">Wine &amp\; Food: A Symphony for the Palate</div>\n\n<div class="x11i5rnm xat24cr x1mh8g0r x1vvkbs xtlvy1s" color:="" font-size:="" segoe="" style="margin: 0.5em 0px 0px\; overflow-wrap: break-word\; font-family: " ui="">Our Bistro opens its doors for a delightful lunch\, featuring special desserts expertly paired with our renowned Port wines. Indulge in a variety of wines by the glass\, including the star of the day &ndash\; the Tawny Port. Venture into the Winery Store to explore curated flights\, adding a symphony of flavors to your palate.</div>\n\n<div class="x11i5rnm xat24cr x1mh8g0r x1vvkbs xtlvy1s" color:="" font-size:="" segoe="" style="margin: 0.5em 0px 0px\; overflow-wrap: break-word\; font-family: " ui="">Music: A Captivating Performance</div>\n\n<div class="x11i5rnm xat24cr x1mh8g0r x1vvkbs xtlvy1s" color:="" font-size:="" segoe="" style="margin: 0.5em 0px 0px\; overflow-wrap: break-word\; font-family: " ui="">From 1:00 pm to 4:00 pm\, let the enchanting melodies of Gin\, Chocolate &amp\; Bottle Rockets sweep you away in the intimate setting of the Sugarloaf Room. A perfect accompaniment to the celebration\, their performance promises to elevate your experience.</div>\n\n<div class="x11i5rnm xat24cr x1mh8g0r x1vvkbs xtlvy1s" color:="" font-size:="" segoe="" style="margin: 0.5em 0px 0px\; overflow-wrap: break-word\; font-family: " ui="">Special Seated Tasting: Dive into Elegance</div>\n\n<div class="x11i5rnm xat24cr x1mh8g0r x1vvkbs xtlvy1s" color:="" font-size:="" segoe="" style="margin: 0.5em 0px 0px\; overflow-wrap: break-word\; font-family: " ui="">Partake in a special seated tasting featuring the Tawny Port 2019. Delve into the nuances of this exceptional release as our knowledgeable staff guides you through a sensory exploration. Reservations are available on our website.</div>\n\n<div class="x11i5rnm xat24cr x1mh8g0r x1vvkbs xtlvy1s" color:="" font-size:="" segoe="" style="margin: 0.5em 0px 0px\; overflow-wrap: break-word\; font-family: " ui="">Distillery: A Spirited Affair</div>\n\n<div class="x11i5rnm xat24cr x1mh8g0r x1vvkbs xtlvy1s" color:="" font-size:="" segoe="" style="margin: 0.5em 0px 0px\; overflow-wrap: break-word\; font-family: " ui="">For those seeking a different kind of delight\, our Distillery offers spirits tastings\, flights\, and hand-crafted cocktails for purchase. Elevate your celebration with a touch of distilled perfection.</div>\n\n<div class="x11i5rnm xat24cr x1mh8g0r x1vvkbs xtlvy1s" color:="" font-size:="" segoe="" style="margin: 0.5em 0px 0px\; overflow-wrap: break-word\; font-family: " ui="">As we invite you to Wollersheim&#39\;s Annual Port Wine Celebration\, we anticipate a day filled with discovery\, indulgence\, and shared moments. Join us on January 27\, 2024\, from 12 pm to 5 pm\, and be part of a celebration that transcends the ordinary\, embracing the extraordinary world of Wollersheim.</div>\n
LOCATION:Wollersheim Winery & Distillery
UID:e.1184.31529
SEQUENCE:3
DTSTAMP:20260420T020413Z
URL:http://members.saukprairie.com/events/details/wollersheim-s-annual-port-wine-celebration-31529
END:VEVENT

END:VCALENDAR
