BEGIN:VCALENDAR
VERSION:2.0
PRODID:-//ChamberMaster//Event Calendar 2.0//EN
METHOD:PUBLISH
X-PUBLISHED-TTL:P3D
REFRESH-INTERVAL:P3D
CALSCALE:GREGORIAN
BEGIN:VEVENT
DTSTART:20160617T170000Z
DTEND:20160618T220000Z
X-MICROSOFT-CDO-ALLDAYEVENT:FALSE
SUMMARY:Wollersheim Winery - Open House
DESCRIPTION:Join us as we celebrate the first release of our new Brandy. Enjoy distilled spirits tastings\, cocktails and music on Saturday.
X-ALT-DESC;FMTTYPE=text/html:<h1 style="margin-bottom:.0001pt\;"><span style="color: rgb(0\, 0\, 0)\; font-family: minion-pro\, Georgia\, 'Times New Roman'\, Times\, serif\; font-size: 14px\; line-height: 21px\; background-color: rgb(233\, 231\, 216)\;">Join us as we celebrate the first release of our new Brandy. Enjoy distilled spirits tastings\, cocktails and music on Saturday.</span></h1>\n
LOCATION:Wollersheim Winery 7876 Hwy 188 Prairie du Sac\, Wisconsin 53578
UID:e.1184.6924
SEQUENCE:3
DTSTAMP:20260426T004013Z
URL:http://members.saukprairie.com/events/details/wollersheim-winery-open-house-06-17-2016-6924
END:VEVENT

END:VCALENDAR
