BEGIN:VCALENDAR
VERSION:2.0
PRODID:-//ChamberMaster//Event Calendar 2.0//EN
METHOD:PUBLISH
X-PUBLISHED-TTL:P3D
REFRESH-INTERVAL:P3D
CALSCALE:GREGORIAN
BEGIN:VEVENT
DTSTART:20190302T160000Z
DTEND:20190302T220000Z
X-MICROSOFT-CDO-ALLDAYEVENT:FALSE
SUMMARY:Wollersheim Winery Open House
DESCRIPTION:Our annual Open House offers grapevine pruning\, cooking with wine demonstrations and winemaking explanations scheduled each day. Views of the winery's modern fermentation facilities and historic underground aging cellars take place throughout the day\, along with bottling line demonstrations and interactive displays\, are available for families to enjoy along a self-guided tour.  (No admission fee. Open to the public.
X-ALT-DESC;FMTTYPE=text/html:<span style="font-family: Georgia\, &quot\;Times New Roman&quot\;\, &quot\;Bitstream Charter&quot\;\, Times\, serif\; font-size: 16px\;">Our annual Open House offers grapevine pruning\, cooking with wine demonstrations and winemaking explanations scheduled each day. Views of the winery&#39\;s modern fermentation facilities and historic underground aging cellars take place throughout the day\, along with bottling line demonstrations and interactive displays\, are available for families to enjoy along a self-guided tour.&nbsp\; (No admission fee. Open to the public.</span>
LOCATION:Wollersheim Winery 7876 State Rd. 188 Prairie du Sac\, WI
UID:e.1184.21665
SEQUENCE:3
DTSTAMP:20260423T202614Z
URL:http://members.saukprairie.com/events/details/wollersheim-winery-open-house-21665
END:VEVENT

END:VCALENDAR
