BEGIN:VCALENDAR
VERSION:2.0
PRODID:-//ChamberMaster//Event Calendar 2.0//EN
METHOD:PUBLISH
X-PUBLISHED-TTL:P3D
REFRESH-INTERVAL:P3D
CALSCALE:GREGORIAN
BEGIN:VEVENT
DTSTART:20170128T160000Z
DTEND:20170128T220000Z
X-MICROSOFT-CDO-ALLDAYEVENT:FALSE
SUMMARY:Wollersheim Winery - Port Wine Celebration
DESCRIPTION:A break from Wisconsin's winter! Join us as we celebrate both our Port wines\, Red Port\, plus our White Port. Take a behind the scenes look at the making of our Port wines. Sample both the Red Port and White Port\, along with other Wollersheim wines available for tasting and by the glass. Enjoy live music\, light food and insights on Port wine from winemaker\, Philippe Coquard.\n\nTours & Tasting | In lieu of our regular tour\, take a stroll behind the scenes and learn how Port wines are made. Enjoy a taste of the red Port\, white Port\, and a few other wines along the way as you wind around from the modern fermentation facilities to the historic stone wine cellars where the Port ages in barrels. Plus\, view Winemaker Philippe's custom-painted Port Harley motorcycle and the Brandy pot still.\n\nWinemaker Talks | Hear from Winemaker Philippe\, plus ask your questions about the wines or winery\, as he shares insight on making Port wines.\n\n\nWine & Food | The Port wines and other Wollersheim wines are available to purchase and enjoy by the glass. A Port plate combination that complements the Ports with a choice of flavorful Wisconsin cheeses\, chocolate truffles\, freshly baked bread\, almonds\, and apricots is also available to purchase.\nLive Music: Groove to the rhythmic fusion of flamenco music performed by the Evan Christian Trio upstairs in our original winery building.-->Live Music: Groove to the rhythmic fusion of flamenco music performed by the Evan Christian Trio upstairs in our original winery building.-->\n\n(No admission fee. Open to the public.)
X-ALT-DESC;FMTTYPE=text/html:<p>A break from Wisconsin&rsquo\;s winter! Join us as we celebrate both our Port wines\, <a href="http://www.wollersheim.com/wines/port" target="blank"><font color="#0066cc">Red Port</font></a>\, plus our <a href="http://www.wollersheim.com/wines/WhitePort" target="_blank"><font color="#0066cc">White Port</font></a>. Take a behind the scenes look at the making of our Port wines. Sample both the Red Port and White Port\, along with other Wollersheim wines available for tasting and by the glass. Enjoy live music\, light food and insights on Port wine from winemaker\, Philippe Coquard.</p>\n\n<p><strong>Tours &amp\; Tasting</strong> | In lieu of our regular tour\, take a stroll behind the scenes and learn how Port wines are made. Enjoy a taste of the red Port\, white Port\, and a few other wines along the way as you wind around from the modern fermentation facilities to the historic stone wine cellars where the Port ages in barrels. Plus\, view Winemaker Philippe&rsquo\;s custom-painted Port Harley motorcycle and the Brandy pot still.</p>\n\n<p><strong>Winemaker Talks</strong> | Hear from Winemaker Philippe\, plus ask your questions about the wines or winery\, as he shares insight on making Port wines.</p>\n<!--Talks are scheduled for 11:30 am\, 12:30 pm\, 1:30 pm\, 2:30 pm and 3:00 pm.--><!--Talks are scheduled for 11:30 am\, 12:30 pm\, 1:30 pm\, 2:30 pm and 3:00 pm.-->\n\n<p><strong>Wine &amp\; Food</strong> | The Port wines and other Wollersheim wines are available to purchase and enjoy by the glass. A Port plate combination that complements the Ports with a choice of flavorful Wisconsin cheeses\, chocolate truffles\, freshly baked bread\, almonds\, and apricots is also available to purchase.</p>\n<!--<li><strong>Live Music:</strong> Groove to the rhythmic fusion of flamenco music performed by the Evan Christian Trio upstairs in our original winery building.</ul>--><!--<li><strong>Live Music:</strong> Groove to the rhythmic fusion of flamenco music performed by the Evan Christian Trio upstairs in our original winery building.</ul>-->\n\n<p><i>(No admission fee. Open to the public.)</i></p>\n
LOCATION:Wollersheim Winery 7876 Hwy 188 Prairie du Sac\, Wisconsin 53578
UID:e.1184.5858
SEQUENCE:3
DTSTAMP:20260425T142334Z
URL:http://members.saukprairie.com/events/details/wollersheim-winery-port-wine-celebration-01-28-2017-5858
END:VEVENT

END:VCALENDAR
