BEGIN:VCALENDAR
VERSION:2.0
PRODID:-//ChamberMaster//Event Calendar 2.0//EN
METHOD:PUBLISH
X-PUBLISHED-TTL:P3D
REFRESH-INTERVAL:P3D
CALSCALE:GREGORIAN
BEGIN:VEVENT
DTSTART:20180127T160000Z
DTEND:20180127T220000Z
X-MICROSOFT-CDO-ALLDAYEVENT:FALSE
SUMMARY:Wollersheim Winery - Port Wine Celebration
DESCRIPTION:Take a break from Wisconsin's winter at our Port Wine Celebration!\n\nWalk behind the scenes to see how our Port wines are made in our modern fermentation facilities and age in barrels in our historic underground aging cellars. Along the way\, enjoy tastes of the Red Port and White Port\, plus a few of our other wines. Hear from Winemaker Philippe as he shares remarks on our Red Port\, White Port and our Tawny Port.\n\nEnjoy a special Winter Tonic cocktail made with our White Port\, Pear Eau de Vie and tonic water and light food that complements our Port wines. A Port plate combination featuring handcrafted Carr Valley Cheese Porto Duet made with our Red Port wine or Carr Valley's 6-year aged cheddar\, along with a flavorful chocolate truffle\, locally-made bread\, almonds and fresh fruit. The Port plates are available to purchase with or without a glass of Red or White Port wine (while supplies last).\n\nWarm up to the riveting performance of Gin\, Chocolate & Bottle Rockets upstairs in our historic Sugarloaf Room. Enter our Port Lady and Port Guy look-alike contest for a chance to win a Port gift box. Judging will take place at 3:00pm in our Sugarloaf Room and will be based on crowd applause.
X-ALT-DESC;FMTTYPE=text/html:<p style="box-sizing: border-box\; margin: 0px\; padding: 0px 0px 1em\; border: 0px\; outline: 0px\; background: 0px 0px rgb(248\, 241\, 220)\; font-size: 16px\; vertical-align: baseline\; text-size-adjust: 100%\; color: rgb(102\, 102\, 102)\; font-family: Lora\, Georgia\, &quot\;Times New Roman&quot\;\, serif\;">Take a break from Wisconsin&rsquo\;s winter at our Port Wine Celebration!</p>\n\n<p style="box-sizing: border-box\; margin: 0px\; padding: 0px 0px 1em\; border: 0px\; outline: 0px\; background: 0px 0px rgb(248\, 241\, 220)\; font-size: 16px\; vertical-align: baseline\; text-size-adjust: 100%\; color: rgb(102\, 102\, 102)\; font-family: Lora\, Georgia\, &quot\;Times New Roman&quot\;\, serif\;">Walk behind the scenes to see how our Port wines are made in our modern fermentation facilities and age in barrels in our historic underground aging cellars. Along the way\, enjoy tastes of the&nbsp\;<a href="http://www.wollersheim.com/product/port/" rel="noopener" style="box-sizing: border-box\; margin: 0px\; padding: 0px\; border: 0px\; outline: 0px\; background: 0px 0px\; vertical-align: baseline\; text-size-adjust: 100%\; color: rgb(117\, 38\, 52)\; text-decoration-line: none\;" target="_blank">Red Port</a>&nbsp\;and&nbsp\;<a href="http://www.wollersheim.com/product/white-port/" rel="noopener" style="box-sizing: border-box\; margin: 0px\; padding: 0px\; border: 0px\; outline: 0px\; background: 0px 0px\; vertical-align: baseline\; text-size-adjust: 100%\; color: rgb(117\, 38\, 52)\; text-decoration-line: none\;" target="_blank">White Port</a>\, plus a few of our other wines. Hear from Winemaker Philippe as he shares remarks on our Red Port\, White Port and our&nbsp\;<a href="http://www.wollersheim.com/product/tawny-port/" rel="noopener" style="box-sizing: border-box\; margin: 0px\; padding: 0px\; border: 0px\; outline: 0px\; background: 0px 0px\; vertical-align: baseline\; text-size-adjust: 100%\; color: rgb(117\, 38\, 52)\; text-decoration-line: none\;" target="_blank">Tawny Port</a>.</p>\n\n<p style="box-sizing: border-box\; margin: 0px\; padding: 0px 0px 1em\; border: 0px\; outline: 0px\; background: 0px 0px rgb(248\, 241\, 220)\; font-size: 16px\; vertical-align: baseline\; text-size-adjust: 100%\; color: rgb(102\, 102\, 102)\; font-family: Lora\, Georgia\, &quot\;Times New Roman&quot\;\, serif\;">Enjoy a special Winter Tonic cocktail made with our&nbsp\;<a href="http://www.wollersheim.com/product/white-port/" rel="noopener" style="box-sizing: border-box\; margin: 0px\; padding: 0px\; border: 0px\; outline: 0px\; background: 0px 0px\; vertical-align: baseline\; text-size-adjust: 100%\; color: rgb(117\, 38\, 52)\; text-decoration-line: none\;" target="_blank">White Port</a>\,&nbsp\;<a href="http://www.wollersheim.com/product/pear-eau-de-vie/" rel="noopener" style="box-sizing: border-box\; margin: 0px\; padding: 0px\; border: 0px\; outline: 0px\; background: 0px 0px\; vertical-align: baseline\; text-size-adjust: 100%\; color: rgb(117\, 38\, 52)\; text-decoration-line: none\;" target="_blank">Pear Eau de Vie</a>&nbsp\;and tonic water and light food that complements our Port wines. A Port plate combination featuring handcrafted Carr Valley Cheese Porto Duet made with our Red Port wine or Carr Valley&rsquo\;s 6-year aged cheddar\, along with a flavorful chocolate truffle\, locally-made bread\, almonds and fresh fruit. The Port plates are available to purchase with or without a glass of Red or White Port wine&nbsp\;<em style="box-sizing: border-box\; margin: 0px\; padding: 0px\; border: 0px\; outline: 0px\; background: 0px 0px\; vertical-align: baseline\; text-size-adjust: 100%\;">(while supplies last)</em>.</p>\n\n<p style="box-sizing: border-box\; margin: 0px\; padding: 0px\; border: 0px\; outline: 0px\; background: 0px 0px rgb(248\, 241\, 220)\; font-size: 16px\; vertical-align: baseline\; text-size-adjust: 100%\; color: rgb(102\, 102\, 102)\; font-family: Lora\, Georgia\, &quot\;Times New Roman&quot\;\, serif\;">Warm up to the riveting performance of Gin\, Chocolate &amp\; Bottle Rockets upstairs in our historic Sugarloaf Room. Enter our Port Lady and Port Guy look-alike contest for a chance to win a Port gift box. Judging will take place at 3:00pm in our Sugarloaf Room and will be based on crowd applause.</p>\n
LOCATION:Wollersheim Winery 7876 Hwy 188 Prairie du Sac\, Wisconsin 53578
UID:e.1184.14653
SEQUENCE:3
DTSTAMP:20260424T175406Z
URL:http://members.saukprairie.com/events/details/wollersheim-winery-port-wine-celebration-14653
END:VEVENT

END:VCALENDAR
