BEGIN:VCALENDAR
VERSION:2.0
PRODID:-//ChamberMaster//Event Calendar 2.0//EN
METHOD:PUBLISH
X-PUBLISHED-TTL:P3D
REFRESH-INTERVAL:P3D
CALSCALE:GREGORIAN
BEGIN:VEVENT
DTSTART:20190126T160000Z
DTEND:20190126T220000Z
X-MICROSOFT-CDO-ALLDAYEVENT:FALSE
SUMMARY:Wollersheim Winery - Port Wine Celebration
DESCRIPTION:Take a break from Wisconsin's winter! Join us to celebrate our Port wines. Enjoy music\, light food\, and insights on Port wine from Winemaker Philippe.
X-ALT-DESC;FMTTYPE=text/html:<p style="box-sizing: border-box\; margin: 0px\; padding: 0px 0px 1em\; border: 0px\; outline: 0px\; background: 0px 0px rgb(248\, 241\, 220)\; font-size: 16px\; vertical-align: baseline\; text-size-adjust: 100%\; color: rgb(102\, 102\, 102)\; font-family: Lora\, Georgia\, &quot\;Times New Roman&quot\;\, serif\;"><span style="color: rgb(102\, 102\, 102)\; font-family: Lora\, Georgia\, &quot\;Times New Roman&quot\;\, serif\; font-size: 16px\; background-color: rgb(248\, 241\, 220)\;">Take a break from Wisconsin&rsquo\;s winter! Join us to celebrate our Port wines. Enjoy music\, light food\, and insights on Port wine from Winemaker Philippe.</span></p>\n
LOCATION:Wollersheim Winery 7876 Hwy 188 Prairie du Sac\, Wisconsin 53578
UID:e.1184.21664
SEQUENCE:3
DTSTAMP:20260424T003449Z
URL:http://members.saukprairie.com/events/details/wollersheim-winery-port-wine-celebration-21664
END:VEVENT

END:VCALENDAR
