BEGIN:VCALENDAR
VERSION:2.0
PRODID:-//ChamberMaster//Event Calendar 2.0//EN
METHOD:PUBLISH
X-PUBLISHED-TTL:P3D
REFRESH-INTERVAL:P3D
CALSCALE:GREGORIAN
BEGIN:VEVENT
DTSTART:20191003T150000Z
DTEND:20191003T220000Z
X-MICROSOFT-CDO-ALLDAYEVENT:FALSE
SUMMARY:Wollersheim Winery's Ice Wine Release
DESCRIPTION:Visitors are invited to stop by the winery between 10 a.m. and 5 p.m.\, to celebrate with a sample taste of the Ice Wine\, along with a variety of special activities.
X-ALT-DESC;FMTTYPE=text/html:<span style="font-size:14px\;"><span style="font-family:calibri\,sans-serif\;">Visitors are invited to stop by the winery between 10 a.m. and 5 p.m.\, to celebrate with a sample taste of the Ice Wine\, along with a variety of special activities.</span></span>
LOCATION:Wollersheim Winery\, 7876 Hwy. 188\, Prairie du Sac\, WI 53578
UID:e.1184.21666
SEQUENCE:3
DTSTAMP:20260423T095540Z
URL:http://members.saukprairie.com/events/details/wollersheim-winery-s-ice-wine-release-21666
END:VEVENT

END:VCALENDAR
