BEGIN:VCALENDAR
VERSION:2.0
PRODID:-//ChamberMaster//Event Calendar 2.0//EN
METHOD:PUBLISH
X-PUBLISHED-TTL:P3D
REFRESH-INTERVAL:P3D
CALSCALE:GREGORIAN
BEGIN:VEVENT
DTSTART;VALUE=DATE:20191121
DTEND;VALUE=DATE:20191122
TRANSP:TRANSPARENT
X-MICROSOFT-CDO-ALLDAYEVENT:TRUE
SUMMARY:Wollersheim Winery's Ruby Nouveau Day
DESCRIPTION:Join Winemaker Philippe for a special toast at Noon as he taps the Ruby Nouveau barrel. This special toast will be celebrated with Wisconsin sausage and cheese.  Ruby Nouveau is Wisconsin's version of a Beaujolais Nouveau\, traditionally released the third Thursday in November. Wollersheim Winery's Ruby Nouveau is from their estate-grown Foch grapes and Winemaker Philippe follows the traditional methods of whole berry fermentation.
X-ALT-DESC;FMTTYPE=text/html:<p>Join Winemaker Philippe for a special toast at Noon as he taps the Ruby Nouveau barrel. This special toast will be celebrated with Wisconsin sausage and cheese.&nbsp\; Ruby Nouveau is Wisconsin&rsquo\;s version of a Beaujolais Nouveau\, traditionally released the third Thursday in November. Wollersheim Winery&rsquo\;s Ruby Nouveau is from their estate-grown Foch grapes and Winemaker Philippe follows the traditional methods of whole berry fermentation.</p>\n
LOCATION:Wollersheim Winery
UID:e.1184.21667
SEQUENCE:3
DTSTAMP:20260423T083425Z
URL:http://members.saukprairie.com/events/details/wollersheim-winery-s-ruby-nouveau-day-21667
END:VEVENT

END:VCALENDAR
