BEGIN:VCALENDAR
VERSION:2.0
PRODID:-//ChamberMaster//Event Calendar 2.0//EN
METHOD:PUBLISH
X-PUBLISHED-TTL:P3D
REFRESH-INTERVAL:P3D
CALSCALE:GREGORIAN
BEGIN:VEVENT
DTSTART:20221019T230000Z
DTEND:20221020T020000Z
X-MICROSOFT-CDO-ALLDAYEVENT:FALSE
SUMMARY:Women\, Wine & Wizardry
DESCRIPTION:Help Sauk Prairie honor women who are making a difference in their families and workplaces by purchasing a ticket for Women\, Wine & Wizardry (Oct. 19). The evening event\, which will be held at Vintage Brewing Co.\, includes heavy appetizers\, wine and even a spooky adventure or two\, allowing you to just breathe\, laugh and connect. \n\n	Witches Attire Encouraged\n	Bar Buddies provided from 8-10pm\n\nVendors:\n\n\n	Glitter Girl Gems\n	Country Sass Gifts\n	Unfolded\n	Flaxen Fleece\n	LAF Boutique\n	Deb Jacob Designs\n	Rainbow Floral
X-ALT-DESC;FMTTYPE=text/html:Help Sauk Prairie honor <span style="color:black\;">women </span>who are making a difference in their families and workplaces by purchasing a ticket for <strong>Women\, Wine &amp\; Wizardry</strong> (Oct. 19). The evening event\, which will be held at Vintage Brewing Co.\, includes heavy appetizers\, <span style="color:black\;">wine and </span>even a spooky adventure or two\, allowing you to just breathe\, laugh and connect.&nbsp\;\n<ul>\n	<li>Witches Attire Encouraged</li>\n	<li>Bar Buddies provided from 8-10pm</li>\n</ul>\nVendors:\n\n<ul>\n	<li>Glitter Girl Gems</li>\n	<li>Country Sass Gifts</li>\n	<li>Unfolded</li>\n	<li>Flaxen Fleece</li>\n	<li>LAF Boutique</li>\n	<li>Deb Jacob Designs</li>\n	<li>Rainbow Floral</li>\n</ul>\n
LOCATION:Vintage Brewing Co.
UID:e.1184.28177
SEQUENCE:3
DTSTAMP:20260421T045320Z
URL:http://members.saukprairie.com/events/details/women-wine-wizardry-28177
END:VEVENT

END:VCALENDAR
