BEGIN:VCALENDAR
VERSION:2.0
PRODID:-//ChamberMaster//Event Calendar 2.0//EN
METHOD:PUBLISH
X-PUBLISHED-TTL:P3D
REFRESH-INTERVAL:P3D
CALSCALE:GREGORIAN
BEGIN:VEVENT
DTSTART:20191002T230000Z
DTEND:20191003T020000Z
X-MICROSOFT-CDO-ALLDAYEVENT:FALSE
SUMMARY:Women\, Words & Wine
DESCRIPTION:Join us for the 4th Annual Women\, Words\, & Wine as we celebrate women and hear from two dynamic speakers. This year's local speaker is Miki Smith a wife\, mom & story-teller extraordinaire\, followed by Shannan Paul a speaker\, comedian and social instigator.\n\n\n\nThis ticketed event will include a plated meal\, dessert\, wine\, and amazing speakers! You won't want to miss out on this fun filled night of celebrating women!\n\n\n\nGet your tickets here or stop into the Chamber: https://www.eventbrite.com/e/women-words-wine-2019-tickets-65842599989
X-ALT-DESC;FMTTYPE=text/html:<p style="margin: 0px\; padding: 0px\; color: rgb(111\, 114\, 135)\; font-family: &quot\;Neue Plak&quot\;\, -apple-system\, BlinkMacSystemFont\, Roboto\, &quot\;Helvetica Neue&quot\;\, Helvetica\, Tahoma\, Arial\, sans-serif\; font-size: 14.9333px\; letter-spacing: 0.5px\;"><span style="color: rgb(29\, 33\, 41)\; font-family: Helvetica\, Arial\, sans-serif\; font-size: 14px\; white-space: pre-wrap\;">Join us for the 4th Annual Women\, Words\, &amp\; Wine as we celebrate women and hear from two dynamic speakers. This year&#39\;s local speaker is Miki Smith a wife\, mom &amp\; story-teller extraordinaire\, followed by Shannan Paul a speaker\, comedian and social instigator.</span><br style="color: rgb(29\, 33\, 41)\; font-family: Helvetica\, Arial\, sans-serif\; font-size: 14px\; white-space: pre-wrap\;" />\n<br style="color: rgb(29\, 33\, 41)\; font-family: Helvetica\, Arial\, sans-serif\; font-size: 14px\; white-space: pre-wrap\;" />\n<span style="color: rgb(29\, 33\, 41)\; font-family: Helvetica\, Arial\, sans-serif\; font-size: 14px\; white-space: pre-wrap\;">This ticketed event will include a plated meal\, dessert\, wine\, and amazing speakers! You won&#39\;t want to miss out on this fun filled night of celebrating women!</span></p>\n\n<p><br />\nGet your tickets here or stop into the Chamber:&nbsp\;<span style="font-family:calibri\,sans-serif\;"><span style="font-size:11.0pt\;"><a href="https://www.eventbrite.com/e/women-words-wine-2019-tickets-65842599989">https://www.eventbrite.com/e/women-words-wine-2019-tickets-65842599989</a></span></span></p>\n
LOCATION:Vintage Brewing Co. Sauk City\, WI 53583
UID:e.1184.21527
SEQUENCE:3
DTSTAMP:20260423T095458Z
URL:http://members.saukprairie.com/events/details/women-words-wine-21527
END:VEVENT

END:VCALENDAR
