BEGIN:VCALENDAR
VERSION:2.0
PRODID:-//ChamberMaster//Event Calendar 2.0//EN
METHOD:PUBLISH
X-PUBLISHED-TTL:P3D
REFRESH-INTERVAL:P3D
CALSCALE:GREGORIAN
BEGIN:VEVENT
DTSTART:20170715T210000Z
DTEND:20170716T040000Z
X-MICROSOFT-CDO-ALLDAYEVENT:FALSE
SUMMARY:Wood BBQ at The Vines
DESCRIPTION:Join us for a afternoon of music\, food and friends! Wood BBQ will be roasting a pig on site and full dinner with all the fixings. Cheese curd frying station will tempt your inner Wisco. Three great local bands will play into the night. Wood Chickens\, Say it ain't Soul and West on 12. This is a rain or shine event. Please bring your own beverages and lawn chair. There will be plenty of bags boards to play and a bonfire at dark. Tickets are $25 and will be sold at Wood BBQ. Only 250 tickets will be sold so do not delay they won't last! Hope to see you all there!\n\nhttps://www.facebook.com/woodchickensband/\n\nhttps://www.facebook.com/westontwelve/\n\nhttps://www.facebook.com/SayItAintSoulband/\n\nhttps://www.facebook.com/thevinesvenue/
X-ALT-DESC;FMTTYPE=text/html:<span style="color: rgb(75\, 79\, 86)\; font-family: Helvetica\, Arial\, sans-serif\; font-size: 14px\;">Join us for a afternoon of music\, food and friends! Wood BBQ will be roasting a pig on site and full dinner with all the fixings. Cheese curd frying station will tempt your inner Wisco. Three great local bands will play into the night. Wood Chickens\, Say it ain&#39\;t Soul and West on 12. This is a rain or shine event. Please bring your own beverages and lawn chair. There will be plenty of bags boards to play and a bonfire at dark. Tickets are $25 and will be sold at Wood BBQ. Only 250 tickets will be sold so do not delay they won&#39\;t last! Hope to see you all there!</span><br style="color: rgb(75\, 79\, 86)\; font-family: Helvetica\, Arial\, sans-serif\; font-size: 14px\;" />\n<a href="https://www.facebook.com/woodchickensband/" rel="nofollow" style="color: rgb(54\, 88\, 153)\; cursor: pointer\; text-decoration-line: none\; font-family: Helvetica\, Arial\, sans-serif\; font-size: 14px\;"><span style="font-family: inherit\;">https://www.facebook.com/</span><wbr />woodchickensband/</a><br style="color: rgb(75\, 79\, 86)\; font-family: Helvetica\, Arial\, sans-serif\; font-size: 14px\;" />\n<a href="https://www.facebook.com/westontwelve/" rel="nofollow" style="color: rgb(54\, 88\, 153)\; cursor: pointer\; text-decoration-line: none\; font-family: Helvetica\, Arial\, sans-serif\; font-size: 14px\;"><span style="font-family: inherit\;">https://www.facebook.com/</span><wbr />westontwelve/</a><br style="color: rgb(75\, 79\, 86)\; font-family: Helvetica\, Arial\, sans-serif\; font-size: 14px\;" />\n<a href="https://www.facebook.com/SayItAintSoulband/" rel="nofollow" style="color: rgb(54\, 88\, 153)\; cursor: pointer\; text-decoration-line: none\; font-family: Helvetica\, Arial\, sans-serif\; font-size: 14px\;"><span style="font-family: inherit\;">https://www.facebook.com/</span><wbr />SayItAintSoulband/</a><br style="color: rgb(75\, 79\, 86)\; font-family: Helvetica\, Arial\, sans-serif\; font-size: 14px\;" />\n<a href="https://www.facebook.com/thevinesvenue/" rel="nofollow" style="color: rgb(54\, 88\, 153)\; cursor: pointer\; text-decoration-line: none\; font-family: Helvetica\, Arial\, sans-serif\; font-size: 14px\;"><span style="font-family: inherit\;">https://www.facebook.com/</span><wbr />thevinesvenue/</a>
LOCATION:The Vines W13002 Schoepp Rd.
UID:e.1184.11818
SEQUENCE:3
DTSTAMP:20260425T033014Z
URL:http://members.saukprairie.com/events/details/wood-bbq-at-the-vines-11818
END:VEVENT

END:VCALENDAR
