BEGIN:VCALENDAR
VERSION:2.0
PRODID:-//ChamberMaster//Event Calendar 2.0//EN
METHOD:PUBLISH
X-PUBLISHED-TTL:P3D
REFRESH-INTERVAL:P3D
CALSCALE:GREGORIAN
BEGIN:VEVENT
DTSTART:20230812T200000Z
DTEND:20230812T230000Z
X-MICROSOFT-CDO-ALLDAYEVENT:FALSE
SUMMARY:Wood BBQ Smoked & Sauced BBQ Trailer Event
DESCRIPTION:3 Souls Band will entertain us while Cody feeds us! Wings will be cooked on site! See menu in post. Pre-order to guarantee your order by commenting on menu post below\, send a PM to Schoepps or sign up directly at Schoepps bar!\n\nCash only\, ATM on site
X-ALT-DESC;FMTTYPE=text/html:<span style="color: rgb(5\, 5\, 5)\; font-family: &quot\;Segoe UI Historic&quot\;\, &quot\;Segoe UI&quot\;\, Helvetica\, Arial\, sans-serif\; font-size: 15px\;">3 Souls Band will entertain us while Cody feeds us! Wings will be cooked on site! See menu in post. Pre-order to guarantee your order by commenting on menu post below\, send a PM to Schoepps or sign up directly at Schoepps bar!</span><br style="color: rgb(5\, 5\, 5)\; font-family: &quot\;Segoe UI Historic&quot\;\, &quot\;Segoe UI&quot\;\, Helvetica\, Arial\, sans-serif\; font-size: 15px\;" />\n<span style="color: rgb(5\, 5\, 5)\; font-family: &quot\;Segoe UI Historic&quot\;\, &quot\;Segoe UI&quot\;\, Helvetica\, Arial\, sans-serif\; font-size: 15px\;">Cash only\, ATM on site</span>
LOCATION:Schoepp's Cottonwood Resort N586 Schoepp Rd\, Sauk City
UID:e.1184.30926
SEQUENCE:3
DTSTAMP:20260420T090532Z
URL:http://members.saukprairie.com/events/details/wood-bbq-smoked-sauced-bbq-trailer-event-30926
END:VEVENT

END:VCALENDAR
