BEGIN:VCALENDAR
VERSION:2.0
PRODID:-//ChamberMaster//Event Calendar 2.0//EN
METHOD:PUBLISH
X-PUBLISHED-TTL:P3D
REFRESH-INTERVAL:P3D
CALSCALE:GREGORIAN
BEGIN:VEVENT
DTSTART:20180805T210000Z
DTEND:20180806T000000Z
X-MICROSOFT-CDO-ALLDAYEVENT:FALSE
SUMMARY:Wood BBQ Smoked & Sauced Sunday's presents Black Water Gin
DESCRIPTION:Smoked & Sauced Sunday's Presents Black Water Gin. Blending Southern influence\, Country & Rock 'n Roll\, Black Water Gin creates a sound uniquely their own. Based out of Wisconsin\, members hail from the South and Midwest\, bringing an excitement to the stage\, spanning generations together as one. Come join us for great music and BBQ!
X-ALT-DESC;FMTTYPE=text/html:<div class="_63eu" style="box-sizing: border-box\; font-size: 14px\; max-height: 260px\; overflow: hidden\; padding: 12px\; word-wrap: break-word\; font-family: Helvetica\, Arial\, sans-serif\; color: rgb(29\, 33\, 41)\;">\n<div class="_63ew" data-testid="event-permalink-details" style="font-family: inherit\;"><span style="color: rgb(29\, 33\, 41)\; font-family: Helvetica\, Arial\, sans-serif\; font-size: 14px\;">Smoked &amp\; Sauced Sunday&#39\;s Presents Black Water Gin. Blending Southern influence\, Country &amp\; Rock &#39\;n Roll\, Black Water Gin creates a sound uniquely their own. Based out of Wisconsin\, members hail from the South and Midwest\, bringing an excitement to the stage\, spanning generations together as one. Come join us for great music and BBQ!</span></div>\n\n<div>&nbsp\;</div>\n</div>\n
LOCATION:Wood BBQ 739 Phillips Blvd.\, Sauk City
UID:e.1184.20517
SEQUENCE:3
DTSTAMP:20260424T070254Z
URL:http://members.saukprairie.com/events/details/wood-bbq-smoked-sauced-sunday-s-presents-black-water-gin-20517
END:VEVENT

END:VCALENDAR
