BEGIN:VCALENDAR
VERSION:2.0
PRODID:-//ChamberMaster//Event Calendar 2.0//EN
METHOD:PUBLISH
X-PUBLISHED-TTL:P3D
REFRESH-INTERVAL:P3D
CALSCALE:GREGORIAN
BEGIN:VEVENT
DTSTART:20180819T210000Z
DTEND:20180820T000000Z
X-MICROSOFT-CDO-ALLDAYEVENT:FALSE
SUMMARY:Wood BBQ Smoked & Sauced Sunday's Presents The Adam Bartels Band
DESCRIPTION:Wood BBQ Smoked & Sauced Sunday's Presents The Adam Bartels Band! 4 piece band from Southwest Wisconsin featuring Adam Bartels as lead singer\, Kevin Charles as lead guitar/vocals and Nick Feist on percussion and Ryan Pink on Keys. Join us for great live music and bbq!
X-ALT-DESC;FMTTYPE=text/html:<div class="_63eu" style="box-sizing: border-box\; font-size: 14px\; max-height: 260px\; overflow: hidden\; padding: 12px\; word-wrap: break-word\; font-family: Helvetica\, Arial\, sans-serif\; color: rgb(29\, 33\, 41)\;">\n<div class="_63ew" data-testid="event-permalink-details" style="font-family: inherit\;"><span style="color: rgb(29\, 33\, 41)\; font-family: Helvetica\, Arial\, sans-serif\; font-size: 14px\;">Wood BBQ Smoked &amp\; Sauced Sunday&#39\;s Presents The Adam Bartels Band! 4 piece band from Southwest Wisconsin featuring Adam Bartels as lead singer\, Kevin Charles as lead guitar/vocals and Nick Feist on percussion and Ryan Pink on Keys. Join us for great live music and bbq!</span></div>\n\n<div>&nbsp\;</div>\n</div>\n
LOCATION:Wood BBQ 739 Phillips Blvd.\, Sauk City
UID:e.1184.20519
SEQUENCE:3
DTSTAMP:20260424T070411Z
URL:http://members.saukprairie.com/events/details/wood-bbq-smoked-sauced-sunday-s-presents-the-adam-bartels-band-20519
END:VEVENT

END:VCALENDAR
