BEGIN:VCALENDAR
VERSION:2.0
PRODID:-//ChamberMaster//Event Calendar 2.0//EN
METHOD:PUBLISH
X-PUBLISHED-TTL:P3D
REFRESH-INTERVAL:P3D
CALSCALE:GREGORIAN
BEGIN:VEVENT
DTSTART;VALUE=DATE:20160917
DTEND;VALUE=DATE:20160919
TRANSP:TRANSPARENT
X-MICROSOFT-CDO-ALLDAYEVENT:TRUE
SUMMARY:Wooden Car Tours at Mid-Continent Railway Museum
DESCRIPTION:Mid-Continent Railway Museum has a nationally-re owned\, award-winning wooden car restoration program. While all museum visitors area able to see the beautiful restorations from the Coach Shed viewing platforms alongside the cars\, much of the fine craftsmanship can only be fully appreciated from within the railcars. For one weekend only\, museum visitors will have an opportunity to do just that. Guided tours will be provided by knowledgeable restoration volunteers and will take visitors beyond locked doors and inside these exquisitely restored railcars.\n\n\n\nReservations are recommended
X-ALT-DESC;FMTTYPE=text/html:Mid-Continent Railway Museum has a nationally-re owned\, award-winning wooden car restoration program. While all museum visitors area able to see the beautiful restorations from the Coach Shed viewing platforms alongside the cars\, much of the fine craftsmanship can only be fully appreciated from within the railcars. For one weekend only\, museum visitors will have an opportunity to do just that. Guided tours will be provided by knowledgeable restoration volunteers and will take visitors beyond locked doors and inside these exquisitely restored railcars.<br />\n<br />\nReservations are recommended
LOCATION:E8948 Diamond Hill Rd North Freedom\, WI 53951
UID:e.1184.8451
SEQUENCE:3
DTSTAMP:20260425T193222Z
URL:http://members.saukprairie.com/events/details/wooden-car-tours-at-mid-continent-railway-museum-09-17-2016-8451
END:VEVENT

END:VCALENDAR
