BEGIN:VCALENDAR
VERSION:2.0
PRODID:-//ChamberMaster//Event Calendar 2.0//EN
METHOD:PUBLISH
X-PUBLISHED-TTL:P3D
REFRESH-INTERVAL:P3D
CALSCALE:GREGORIAN
BEGIN:VEVENT
DTSTART;VALUE=DATE:20160913
DTEND;VALUE=DATE:20160914
TRANSP:TRANSPARENT
X-MICROSOFT-CDO-ALLDAYEVENT:TRUE
SUMMARY:Worker's Compensation Symposium
DESCRIPTION:Sport & Spine Physical Therapy presents Worker's Compensation Symposium.\n\n\n\nNo cost to attend! Designed to be of interest to anyone who works for\, or cares for\, Wisconsin's workforce. Employers\, HR Directors\, Case Managers\, Nurses\, Physicians and Physician's Assistant.
X-ALT-DESC;FMTTYPE=text/html:Sport &amp\; Spine Physical Therapy presents Worker&#39\;s Compensation Symposium.<br />\n<br />\nNo cost to attend! Designed to be of interest to anyone who works for\, or cares for\, Wisconsin&#39\;s workforce. Employers\, HR Directors\, Case Managers\, Nurses\, Physicians and Physician&#39\;s Assistant.
LOCATION:Noah's Event Venue 5020 American Family Drive
UID:e.1184.8879
SEQUENCE:3
DTSTAMP:20260425T205844Z
URL:http://members.saukprairie.com/events/details/worker-s-compensation-symposium-09-13-2016-8879
END:VEVENT

END:VCALENDAR
