BEGIN:VCALENDAR
VERSION:2.0
PRODID:-//ChamberMaster//Event Calendar 2.0//EN
METHOD:PUBLISH
X-PUBLISHED-TTL:P3D
REFRESH-INTERVAL:P3D
CALSCALE:GREGORIAN
BEGIN:VEVENT
DTSTART:20170826T000000Z
DTEND:20170826T020000Z
X-MICROSOFT-CDO-ALLDAYEVENT:FALSE
SUMMARY:Workshop: Crafts & Drafts - Make Your Own Clock
DESCRIPTION:In this class you'll learn how to make your own clock\, customized exactly to the way you like it. Make something modern and sleek\, whimsical and fun\, or rustic and romantic. It's all up to you! All clock hardware and instructions are provided for you.\n\nCrafts & Drafts is a series of monthly classes based around the "wine and paint night" concept. We just decided to go with something a little more Wisconsin   so we added beer! These fun\, pressure-free classes are a great way to unwind after work\, meet up with friends\, celebrate a special event\, and make a cool project for your home. We encourage you to wear clothes that you don't mind getting dirty\, FYI. Each class lasts two hours\, and includes all necessary supplies\, a class instructor\, and two drink tickets. Come back each month to make a different project!
X-ALT-DESC;FMTTYPE=text/html:<p>In this class you&rsquo\;ll learn how to make your own clock\, customized exactly to the way you like it. Make something modern and sleek\, whimsical and fun\, or rustic and romantic. It&rsquo\;s all up to you! All clock hardware and instructions are provided for you.</p>\n\n<p>Crafts &amp\; Drafts is a series of monthly classes based around the &ldquo\;wine and paint night&rdquo\; concept. We just decided to go with something a little more Wisconsin &ndash\; so we added beer! These fun\, pressure-free classes are a great way to unwind after work\, meet up with friends\, celebrate a special event\, and make a cool project for your home. We encourage you to wear clothes that you don&rsquo\;t mind getting dirty\, FYI. Each class lasts two hours\, and includes all necessary supplies\, a class instructor\, and two drink tickets. Come back each month to make a different project!</p>\n
LOCATION:River Arts on Water Studio 590 Water St Prairie du Sac\, WI 53578
UID:e.1184.9894
SEQUENCE:3
DTSTAMP:20260425T014316Z
URL:http://members.saukprairie.com/events/details/workshop-crafts-drafts-make-your-own-clock-9894
END:VEVENT

END:VCALENDAR
