BEGIN:VCALENDAR
VERSION:2.0
PRODID:-//ChamberMaster//Event Calendar 2.0//EN
METHOD:PUBLISH
X-PUBLISHED-TTL:P3D
REFRESH-INTERVAL:P3D
CALSCALE:GREGORIAN
BEGIN:VEVENT
DTSTART:20170923T000000Z
DTEND:20170923T020000Z
X-MICROSOFT-CDO-ALLDAYEVENT:FALSE
SUMMARY:Workshop: Crafts & Drafts - Rustic Wood Sign Painting
DESCRIPTION:Make your very own rustic wood sign to hang in your home. We provide the stencil\, you personalize it to match your style and taste. Choose from three stain colors\, multiple paint colors\, and add your own name to the board. All projects are completed and ready to hang by the time you head home.\n\nCrafts & Drafts is a series of monthly classes based around the "wine and paint night" concept. We just decided to go with something a little more Wisconsin   so we added beer! These fun\, pressure-free classes are a great way to unwind after work\, meet up with friends\, celebrate a special event\, and make a cool project for your home.We encourage you to wear clothes that you don't mind getting dirty\, FYI. Each class lasts two hours\, and includes all necessary supplies\, a class instructor\, and two drink tickets.
X-ALT-DESC;FMTTYPE=text/html:<p>Make your very own rustic wood sign to hang in your home. We provide the stencil\, you personalize it to match your style and taste. Choose from three stain colors\, multiple paint colors\, and add your own name to the board. All projects&nbsp\;are completed and ready to hang by the time you head home.</p>\n\n<p>Crafts &amp\; Drafts is a series of monthly classes based around the &ldquo\;wine and paint night&rdquo\; concept. We just decided to go with something a little more Wisconsin &ndash\; so we added beer! These fun\, pressure-free classes are a great way to unwind after work\, meet up with friends\, celebrate a special event\, and make a cool project for your home.We encourage you to wear clothes that you don&rsquo\;t mind getting dirty\, FYI. Each class lasts two hours\, and includes all necessary supplies\, a class instructor\, and two drink tickets.&nbsp\;</p>\n
LOCATION:River Arts on Water Studio 590 Water St Prairie du Sac\, WI 53578
UID:e.1184.9879
SEQUENCE:3
DTSTAMP:20260425T000240Z
URL:http://members.saukprairie.com/events/details/workshop-crafts-drafts-rustic-wood-sign-painting-9879
END:VEVENT

END:VCALENDAR
