BEGIN:VCALENDAR
VERSION:2.0
PRODID:-//ChamberMaster//Event Calendar 2.0//EN
METHOD:PUBLISH
X-PUBLISHED-TTL:P3D
REFRESH-INTERVAL:P3D
CALSCALE:GREGORIAN
BEGIN:VEVENT
DTSTART:20170325T180000Z
DTEND:20170325T220000Z
X-MICROSOFT-CDO-ALLDAYEVENT:FALSE
SUMMARY:Workshop: Felted Brooches with Briony Foy
DESCRIPTION:Class & Kit Fee: $45\n\nKit includes all required materials\n\nMax Class Size: 16\n\nWith scraps and affordable materials\, we'll create colorful one-of-a-kind brooches and/or embellishments in two and three dimensions.  With "wet" felting and needle-felting techniques we can incorporate almost any materials.  You can't go wrong and are guaranteed happy results!
X-ALT-DESC;FMTTYPE=text/html:<p>Class &amp\; Kit Fee: $45</p>\n\n<p>Kit includes all required materials</p>\n\n<div>Max Class Size: 16</div>\n\n<div><span style="line-height:1.6">With scraps and affordable materials\, we&rsquo\;ll create colorful one-of-a-kind brooches and/or embellishments in two and three dimensions. &nbsp\;With &ldquo\;wet&rdquo\; felting and needle-felting techniques we can incorporate almost any materials. &nbsp\;You can&rsquo\;t go wrong and are guaranteed happy results!</span></div>\n
LOCATION:River Arts on Water Studio 590 Water St Prairie du Sac\, WI 53578
UID:e.1184.9878
SEQUENCE:3
DTSTAMP:20260425T110334Z
URL:http://members.saukprairie.com/events/details/workshop-felted-brooches-with-briony-foy-9878
END:VEVENT

END:VCALENDAR
