BEGIN:VCALENDAR
VERSION:2.0
PRODID:-//ChamberMaster//Event Calendar 2.0//EN
METHOD:PUBLISH
X-PUBLISHED-TTL:P3D
REFRESH-INTERVAL:P3D
CALSCALE:GREGORIAN
BEGIN:VEVENT
DTSTART:20170713T230000Z
DTEND:20170714T020000Z
X-MICROSOFT-CDO-ALLDAYEVENT:FALSE
SUMMARY:Workshop: Herbal Infused Oils\, Salves\, and Lotions with Linda Conroy
DESCRIPTION:Join herbalist Linda Conroy as she leads participants through the process of making oils\, salves and lotions. The focus will be on creating remedies from herbs in the garden. Participants will leave with a list of healing herbs\, recipes and the three preparations (oils\, salves and lotions) made in this class.\n\nAbout Linda Conroy:\n\nLinda Conroy is a bioregional herbalist. She is the founder of Moonwise Herbs\, The Midwest Women's Herbal Conference and Wild Eats. She studied and apprenticed with world renowned herbalists and has offered programs and apprenticeships for close to two decades. Her passion is herbal nourishment through community\, wild food and wild medicine.
X-ALT-DESC;FMTTYPE=text/html:<p>Join herbalist Linda Conroy as she leads participants through the process of making oils\, salves and lotions. The focus will be on creating remedies from herbs in the garden. Participants will leave with a list of healing herbs\, recipes and the three preparations (oils\, salves and lotions) made in this class.</p>\n\n<p><strong>About Linda Conroy:</strong></p>\n\n<p>Linda Conroy is a bioregional herbalist. She is the founder of Moonwise Herbs\, The Midwest Women&rsquo\;s Herbal Conference and Wild Eats. She studied and apprenticed with world renowned herbalists and has offered programs and apprenticeships for close to two decades. Her passion is herbal nourishment through community\, wild food and wild medicine.</p>\n
LOCATION:River Arts on Water Studio 590 Water St Prairie du Sac\, WI 53578
UID:e.1184.9890
SEQUENCE:3
DTSTAMP:20260425T033331Z
URL:http://members.saukprairie.com/events/details/workshop-herbal-infused-oils-salves-and-lotions-with-linda-conroy-9890
END:VEVENT

END:VCALENDAR
