BEGIN:VCALENDAR
VERSION:2.0
PRODID:-//ChamberMaster//Event Calendar 2.0//EN
METHOD:PUBLISH
X-PUBLISHED-TTL:P3D
REFRESH-INTERVAL:P3D
CALSCALE:GREGORIAN
BEGIN:VEVENT
DTSTART:20171014T180000Z
DTEND:20171014T210000Z
X-MICROSOFT-CDO-ALLDAYEVENT:FALSE
SUMMARY:Workshop: Intro to Zentangle - Focus Through Creativity
DESCRIPTION:What is Zentangle?\n\nThe Zentangle  Method is an easy-to-learn\, relaxing\, and fun way to create beautiful images by drawing structured patterns. This is a fun class that requires no prior artistic training or ability.  If you can hold a pen and draw simple shapes\, you can learn the patterns used!\n\nStudents will learn the steps in the Zentangle method\, see a lot of examples\, practice patterns\, and take home finished Zentangle drawings.\n\nThis dynamic mindfulness activity can help to reduce stress\, increase focus and creativity. Join Tess Imobersteg\, Certified Zentangle Instructor and co-founder of the Wisconsin Tangle Arts Coalition for this great introductory class!\n\nGet your 'Zen' on and come tangle with us!\n\nwww.zentangle.com
X-ALT-DESC;FMTTYPE=text/html:<p><strong>What is Zentangle?</strong><br />\nThe Zentangle&reg\; Method is an easy-to-learn\, relaxing\, and fun way to create beautiful images by drawing structured patterns. This is a fun class that&nbsp\;<em>requires no prior artistic training or ability</em>.&nbsp\; If you can hold a pen and draw simple shapes\, you can learn the patterns used!<br />\nStudents will learn the steps in the Zentangle method\, see a lot of examples\, practice patterns\, and take home finished Zentangle drawings.<br />\nThis dynamic mindfulness activity can help to reduce stress\, increase focus and creativity. Join Tess Imobersteg\, Certified Zentangle Instructor and co-founder of the Wisconsin Tangle Arts Coalition for this great introductory class!</p>\n\n<p><strong>Get your &lsquo\;Zen&rsquo\; on and come tangle with us!</strong></p>\n\n<p>www.zentangle.com</p>\n
LOCATION:River Arts on Water Studio 590 Water St Prairie du Sac\, WI 53578
UID:e.1184.10270
SEQUENCE:3
DTSTAMP:20260424T221841Z
URL:http://members.saukprairie.com/events/details/workshop-intro-to-zentangle-focus-through-creativity-10270
END:VEVENT

END:VCALENDAR
