BEGIN:VCALENDAR
VERSION:2.0
PRODID:-//ChamberMaster//Event Calendar 2.0//EN
METHOD:PUBLISH
X-PUBLISHED-TTL:P3D
REFRESH-INTERVAL:P3D
CALSCALE:GREGORIAN
BEGIN:VEVENT
DTSTART:20170812T140000Z
DTEND:20170812T200000Z
X-MICROSOFT-CDO-ALLDAYEVENT:FALSE
SUMMARY:Workshop: Making Glass Beads with Julie Lukosaitis
DESCRIPTION:A hands-on introduction to making glass beads! All skill levels welcome\, especially beginners. All materials and tools are provided\, no experience necessary!
X-ALT-DESC;FMTTYPE=text/html:<span style="color:rgb(0\, 0\, 0)\; font-family:arial\,helvetica\,sans-serif">A hands-on introduction to making glass beads! All skill levels welcome\, especially beginners. All materials and tools are provided\, no experience necessary!</span>
LOCATION:River Arts on Water Studio 590 Water St Prairie du Sac\, WI 53578
UID:e.1184.9892
SEQUENCE:3
DTSTAMP:20260425T031346Z
URL:http://members.saukprairie.com/events/details/workshop-making-glass-beads-with-julie-lukosaitis-9892
END:VEVENT

END:VCALENDAR
