BEGIN:VCALENDAR
VERSION:2.0
PRODID:-//ChamberMaster//Event Calendar 2.0//EN
METHOD:PUBLISH
X-PUBLISHED-TTL:P3D
REFRESH-INTERVAL:P3D
CALSCALE:GREGORIAN
BEGIN:VEVENT
DTSTART:20240608T150000Z
DTEND:20240608T190000Z
X-MICROSOFT-CDO-ALLDAYEVENT:FALSE
SUMMARY:World Wide Knit in Public
DESCRIPTION:World Wide Knitting in Public Day is June 8th.\n\n\n\nJoin us between 10am-2pm in the Water Street Pocket Park\, between the bridge and Flaxen Fleece.  We will meet inside Flaxen Fleece if it is raining.  Bring a chair and something to work on.\n\n\n\nCrocheters\, spinners\, felters and all fiber artists are welcome!  Come meet with friends or make new ones!  The more the merrier!
X-ALT-DESC;FMTTYPE=text/html:World Wide Knitting in Public Day is June 8th.<br />\n<br />\nJoin us between 10am-2pm in the Water Street Pocket Park\, between the bridge and Flaxen Fleece.&nbsp\; We will meet inside Flaxen Fleece if it is raining.&nbsp\; Bring a chair and something to work on.<br />\n<br />\nCrocheters\, spinners\, felters and all fiber artists are welcome!&nbsp\; Come meet with friends or make new ones!&nbsp\; The more the merrier!
LOCATION:
UID:e.1184.32765
SEQUENCE:3
DTSTAMP:20260419T192018Z
URL:http://members.saukprairie.com/events/details/world-wide-knit-in-public-32765
END:VEVENT

END:VCALENDAR
