BEGIN:VCALENDAR
VERSION:2.0
PRODID:-//ChamberMaster//Event Calendar 2.0//EN
METHOD:PUBLISH
X-PUBLISHED-TTL:P3D
REFRESH-INTERVAL:P3D
CALSCALE:GREGORIAN
BEGIN:VEVENT
DTSTART:20181109T020000Z
DTEND:20181109T040000Z
X-MICROSOFT-CDO-ALLDAYEVENT:FALSE
SUMMARY:Wrenclaw
DESCRIPTION:Blending country harmonies and slithery slide guitars\, Wrenclaw captures the longing and redemption of one-horse towns and whistlestop childhood memories.
X-ALT-DESC;FMTTYPE=text/html:<span style="color: rgb(29\, 33\, 41)\; font-family: Helvetica\, Arial\, sans-serif\; font-size: 14px\;">Blending country harmonies and slithery slide guitars\, Wrenclaw captures the longing and redemption of one-horse towns and whistlestop childhood memories.</span>
LOCATION:Vintage Brewing Co. 600 Water St. Sauk City
UID:e.1184.21360
SEQUENCE:3
DTSTAMP:20260424T021701Z
URL:http://members.saukprairie.com/events/details/wrenclaw-21360
END:VEVENT

END:VCALENDAR
