BEGIN:VCALENDAR
VERSION:2.0
PRODID:-//ChamberMaster//Event Calendar 2.0//EN
METHOD:PUBLISH
X-PUBLISHED-TTL:P3D
REFRESH-INTERVAL:P3D
CALSCALE:GREGORIAN
BEGIN:VEVENT
DTSTART:20210909T000000Z
DTEND:20210909T020000Z
X-MICROSOFT-CDO-ALLDAYEVENT:FALSE
SUMMARY:Wrenclaw at Vintage Brewing Co.
DESCRIPTION:Dan Walker and Friends! A show you won't want to miss!
X-ALT-DESC;FMTTYPE=text/html:Dan Walker and Friends! A show you won&#39\;t want to miss!
LOCATION:Vintage Brewing Co. Sauk City\, Wisconsin
UID:e.1184.26691
SEQUENCE:3
DTSTAMP:20260421T231048Z
URL:http://members.saukprairie.com/events/details/wrenclaw-at-vintage-brewing-co-26691
END:VEVENT

END:VCALENDAR
