BEGIN:VCALENDAR
VERSION:2.0
PRODID:-//ChamberMaster//Event Calendar 2.0//EN
METHOD:PUBLISH
X-PUBLISHED-TTL:P3D
REFRESH-INTERVAL:P3D
CALSCALE:GREGORIAN
BEGIN:VEVENT
DTSTART:20180223T020000Z
DTEND:20180223T040000Z
X-MICROSOFT-CDO-ALLDAYEVENT:FALSE
SUMMARY:Wrenclaw at Vintage Brewing Co. Sauk Prairie
DESCRIPTION:Wrenclaw is a Wisconsin original. Blending country harmonies and slithery slide guitars\, they create a down-home\, backwoods soul shakedown. Wrenclaw captures the longing and redemption of one-horse towns and whistle-stop childhood memories. Dan Walkner's voice shimmers and growls\; his timeless guitar slides and slurs with bottleneck flourishes. Wrenclaw digs deep in gospel\, delta\, and back-country roots to create captivating moods. The song-writing is emotive yet never sentimental\; honest and universal\, but never cliche. Wrenclaw's self-titled debut was released in early 2014.
X-ALT-DESC;FMTTYPE=text/html:<span style="color: rgb(75\, 79\, 86)\; font-family: Helvetica\, Arial\, sans-serif\; font-size: 14px\;">Wrenclaw is a Wisconsin original. Blending country harmonies and slithery slide guitars\, they create a down-home\, backwoods soul shakedown. Wrenclaw captures the longing and redemption of one-horse towns and whistle-stop childhood memories. Dan Walkner&rsquo\;s voice shimmers and growls\; his timeless guitar slides and slurs with bottleneck flourishes. Wrenclaw digs deep in gospel\, delta\, and back-country roots to create captivating moods. The song-writing is emotive yet never sentimental\; honest and universal\, but never cliche. Wrenclaw&rsquo\;s self-titled debut was released in early 2014.</span>
LOCATION:Vintage Brewing Co. Sauk Prairie 600 Water Street Sauk City\, WI 53583
UID:e.1184.14673
SEQUENCE:3
DTSTAMP:20260424T162155Z
URL:http://members.saukprairie.com/events/details/wrenclaw-at-vintage-brewing-co-sauk-prairie-14673
END:VEVENT

END:VCALENDAR
