BEGIN:VCALENDAR
VERSION:2.0
PRODID:-//ChamberMaster//Event Calendar 2.0//EN
METHOD:PUBLISH
X-PUBLISHED-TTL:P3D
REFRESH-INTERVAL:P3D
CALSCALE:GREGORIAN
BEGIN:VEVENT
DTSTART:20230721T160000Z
DTEND:20230721T180000Z
X-MICROSOFT-CDO-ALLDAYEVENT:FALSE
SUMMARY:Wyttenbach's Command Center Food Truck
DESCRIPTION:Look for the Command Center Food Truck at the Eagle Plaza\, Phillips Boulevard\, Sauk City. \n\n\n\nLunch will be served on Friday\, July 21st\, 11 am - 1 pm.\n\n\n\nOrder your favorite burger\, plain\, with cheese or bacon\, .french fries\, hot dogs and grilled cheese sandwiches.  \n\n\n\nSpecials:   smoked beef brisket and .River Road Fries (fries topped with smoked pulled pork\, shredded cheese\, grilled onion\, jalapenos and BBQ sauce)\n\n\n\nTop off your meal with a Soft Serve Chocolate Chip Cookie Sandwich.
X-ALT-DESC;FMTTYPE=text/html:Look for the Command Center Food Truck at the Eagle Plaza\, Phillips Boulevard\, Sauk City.&nbsp\;<br />\n<br />\nLunch will be served on Friday\, July 21st\, 11 am - 1 pm.<br />\n<br />\nOrder your favorite burger\, plain\, with cheese or bacon\, .french fries\, hot dogs and grilled cheese sandwiches.&nbsp\;&nbsp\;<br />\n<br />\nSpecials:&nbsp\;&nbsp\;&nbsp\;smoked beef brisket and .River Road Fries (fries topped with smoked pulled pork\, shredded cheese\, grilled onion\, jalapenos and BBQ sauce)<br />\n<br />\nTop off your meal with a Soft Serve Chocolate Chip Cookie Sandwich.
LOCATION:Eagle Plaza\, Phillips Boulevard\, Sauk City.
UID:e.1184.30910
SEQUENCE:3
DTSTAMP:20260420T102808Z
URL:http://members.saukprairie.com/events/details/wyttenbach-s-command-center-food-truck-30910
END:VEVENT

END:VCALENDAR
