BEGIN:VCALENDAR
VERSION:2.0
PRODID:-//ChamberMaster//Event Calendar 2.0//EN
METHOD:PUBLISH
X-PUBLISHED-TTL:P3D
REFRESH-INTERVAL:P3D
CALSCALE:GREGORIAN
BEGIN:VEVENT
DTSTART:20231009T223000Z
DTEND:20231010T003000Z
X-MICROSOFT-CDO-ALLDAYEVENT:FALSE
SUMMARY:Wyttenbach's Command Center Food Truck @ the Prairie du Sac Firemen Open House
DESCRIPTION:Wyttenbach's Command Center Food Truck is delighted to attend the October 9th Open House for the Prairie du Sac Fire Department
X-ALT-DESC;FMTTYPE=text/html:Wyttenbach&#39\;s Command Center Food Truck is delighted to attend the October 9th Open House for the Prairie du Sac Fire Department
LOCATION:Prairie du Sac Fire Department Industrial Park 855 17th Street Prairie du Sac
UID:e.1184.31180
SEQUENCE:3
DTSTAMP:20260420T074536Z
URL:http://members.saukprairie.com/events/details/wyttenbach-s-command-center-food-truck-the-prairie-du-sac-firemen-open-house-31180
END:VEVENT

END:VCALENDAR
