BEGIN:VCALENDAR
VERSION:2.0
PRODID:-//ChamberMaster//Event Calendar 2.0//EN
METHOD:PUBLISH
X-PUBLISHED-TTL:P3D
REFRESH-INTERVAL:P3D
CALSCALE:GREGORIAN
BEGIN:VEVENT
DTSTART:20190406T200000Z
DTEND:20190407T010000Z
X-MICROSOFT-CDO-ALLDAYEVENT:FALSE
SUMMARY:Year End Party & Open House
DESCRIPTION:Admission includes Buffet style dinner by Squirrels Two BBQ and complimentary beer & pop served from 3 - 8 p.m.\n\n\n\n- Taste complimentary wines from Wollersheim Winery\n\n- Cash bar for mix drinks\n\n\n\nRaffle Items:\n\nTrail cameras\, Guns\, Bird hunts\, Guided hunts\, Fishing trips\, Lodging package\, gift certificates\, and much more!!\n\n\n\nTo reserve your dinner ticket please contact Cedar Valley at 608-583-3570 or e-mail: cedarvalleyhunting@yahoo.com
X-ALT-DESC;FMTTYPE=text/html:Admission includes Buffet style dinner by Squirrels Two BBQ and complimentary beer &amp\; pop served from 3 - 8 p.m.<br />\n<br />\n- Taste complimentary wines from Wollersheim Winery<br />\n- Cash bar for mix drinks<br />\n<br />\nRaffle Items:<br />\nTrail cameras\, Guns\, Bird hunts\, Guided hunts\, Fishing trips\, Lodging package\, gift certificates\, and much more!!<br />\n<br />\nTo reserve your dinner ticket please contact Cedar Valley at&nbsp\;608-583-3570 or e-mail: cedarvalleyhunting@yahoo.com
LOCATION:Cedar Valley Preserve 3731 Dolan Road\, Spring Green WI
UID:e.1184.22145
SEQUENCE:3
DTSTAMP:20260423T184852Z
URL:http://members.saukprairie.com/events/details/year-end-party-open-house-22145
END:VEVENT

END:VCALENDAR
