BEGIN:VCALENDAR
VERSION:2.0
PRODID:-//ChamberMaster//Event Calendar 2.0//EN
METHOD:PUBLISH
X-PUBLISHED-TTL:P3D
REFRESH-INTERVAL:P3D
CALSCALE:GREGORIAN
BEGIN:VEVENT
DTSTART:20200720T193000Z
DTEND:20200720T210000Z
X-MICROSOFT-CDO-ALLDAYEVENT:FALSE
SUMMARY:Yoga Fitness & Fun
DESCRIPTION:Prairie Fire Yoga Fun and Fitness Kids Series\n\n \n\nJoin Tammy Fitzpatrick for the 2nd summer series of kids yoga. Regardless if its their first time or a seasoned student\, they will encounter new poses\, games\, exercises and a mountain of fun during these five available 90 minutes sessions! Pre-Registration required\, space is limited\, ages 5 to 10 years old.\n\n \n\nDates: July 20th\, 22nd\, 27th\, 29th\, 31st\n\nTime:  2:30   4pm\n\nCost:  $60. For All Five Sessions\n\n          $15. For Drop In
X-ALT-DESC;FMTTYPE=text/html:<div>Prairie Fire Yoga Fun and Fitness Kids Series</div>\n\n<div>&nbsp\;</div>\n\n<div>Join Tammy Fitzpatrick for the 2nd summer series of kids yoga. Regardless if its their first time or a seasoned student\, they will encounter new poses\, games\, exercises and a mountain of fun during these five available 90 minutes sessions! Pre-Registration required\, space is limited\, ages 5 to 10 years old.</div>\n\n<div>&nbsp\;</div>\n\n<div>Dates: July 20th\, 22nd\, 27th\, 29th\, 31st</div>\n\n<div>Time: &nbsp\;2:30 &ndash\; 4pm</div>\n\n<div>Cost: &nbsp\;$60. For All Five Sessions</div>\n\n<div>&nbsp\; &nbsp\; &nbsp\; &nbsp\; &nbsp\; $15. For Drop In</div>\n
LOCATION:Prairie Fire Yoga
UID:e.1184.26064
SEQUENCE:3
DTSTAMP:20260422T195247Z
URL:http://members.saukprairie.com/events/details/yoga-fitness-fun-26064
END:VEVENT

END:VCALENDAR
