BEGIN:VCALENDAR
VERSION:2.0
PRODID:-//ChamberMaster//Event Calendar 2.0//EN
METHOD:PUBLISH
X-PUBLISHED-TTL:P3D
REFRESH-INTERVAL:P3D
CALSCALE:GREGORIAN
BEGIN:VEVENT
DTSTART:20190615T140000Z
DTEND:20190615T150000Z
X-MICROSOFT-CDO-ALLDAYEVENT:FALSE
SUMMARY:Yoga in the Park
DESCRIPTION:Develop greater body awareness while reducing stress in this yoga class. We will focus on learning and moving through yoga poses\, breathing\, relaxing and having fun. Please bring your own mat and water! \n\n\n\nAge: Entering 4th grade - Adult Participants under 14 need to sign up with an adult\n\n \n\nDates: Saturdays\, June 15\, June 29\, July 20\, August 3\n\nTime: 9:00 am\n\nLocation: Westwynde Park\n\nFee:\n\nPFY Members $6\n\nNon Members $10\n\nChildren under 14 with an adult $5\n\nMin/Max: 7/40\n\nMust be signed up 5 days prior
X-ALT-DESC;FMTTYPE=text/html:<div>Develop greater body awareness while reducing stress in this yoga class. We will focus on learning and moving through yoga poses\, breathing\, relaxing and having fun. Please bring your own mat and water!&nbsp\;</div>\n\n<div><br />\nAge: Entering 4th grade - Adult Participants under 14 need to sign up with an adult</div>\n\n<div>&nbsp\;</div>\n\n<div>Dates: Saturdays\, June 15\, June 29\, July 20\, August 3<br />\nTime: 9:00 am<br />\nLocation: Westwynde Park<br />\nFee:<br />\nPFY Members $6<br />\nNon Members $10<br />\nChildren under 14 with an adult $5<br />\nMin/Max: 7/40</div>\n\n<div>Must be signed up 5 days prior</div>\n
LOCATION:Westwynde Park
UID:e.1184.22383
SEQUENCE:3
DTSTAMP:20260423T153808Z
URL:http://members.saukprairie.com/events/details/yoga-in-the-park-22383
END:VEVENT

END:VCALENDAR
