BEGIN:VCALENDAR
VERSION:2.0
PRODID:-//ChamberMaster//Event Calendar 2.0//EN
METHOD:PUBLISH
X-PUBLISHED-TTL:P3D
REFRESH-INTERVAL:P3D
CALSCALE:GREGORIAN
BEGIN:VEVENT
DTSTART:20161026T230000Z
DTEND:20161027T010000Z
X-MICROSOFT-CDO-ALLDAYEVENT:FALSE
SUMMARY:Young Child CPR\, Choking & Pediatric First Aid Class
DESCRIPTION:Due to high demand we are offering a second session of this FREE young child CPR\, choking and pediatric first aid class by a certified trainer from Pulse Check Plus. Please note\, you will not get certified\, but you will gain an incredible amount of emergency knowledge. Space is limited\, so please register at the library circulation desk. Contact Beth at 643-8318 with questions.
X-ALT-DESC;FMTTYPE=text/html:Due to high demand we are offering a second session of this FREE young child CPR\, choking and pediatric first aid class by a certified trainer from Pulse Check Plus. Please note\, you will not get certified\, but you will gain an incredible amount of emergency knowledge. Space is limited\, so please register at the library circulation desk. Contact Beth at 643-8318 with questions.
LOCATION:Ruth Culver Community Library 540 Water Street Prairie du Sac\, WI 53578
UID:e.1184.9361
SEQUENCE:3
DTSTAMP:20260425T173829Z
URL:http://members.saukprairie.com/events/details/young-child-cpr-choking-pediatric-first-aid-class-9361
END:VEVENT

END:VCALENDAR
