BEGIN:VCALENDAR
VERSION:2.0
PRODID:-//ChamberMaster//Event Calendar 2.0//EN
METHOD:PUBLISH
X-PUBLISHED-TTL:P3D
REFRESH-INTERVAL:P3D
CALSCALE:GREGORIAN
BEGIN:VEVENT
DTSTART:20220628T190000Z
DTEND:20220628T200000Z
X-MICROSOFT-CDO-ALLDAYEVENT:FALSE
SUMMARY:Your Digital Library
DESCRIPTION:Did you know your library card gives you FREE access to eBooks\, streaming movies\, and digital magazines? Learn how to use Overdrive/Libby\, Hoopla\, and Kanopy. Bring your library card and device (or borrow one of our laptops). Registration is required. Call 608-643-8346 or talk to a librarian.
X-ALT-DESC;FMTTYPE=text/html:Did you know your library card gives you FREE access to eBooks\, streaming movies\, and digital magazines? Learn how to use Overdrive/Libby\, Hoopla\, and Kanopy. Bring your library card and device (or borrow one of our laptops). Registration is required. Call 608-643-8346 or talk to a librarian.
LOCATION:
UID:e.1184.27938
SEQUENCE:3
DTSTAMP:20260421T103448Z
URL:http://members.saukprairie.com/events/details/your-digital-library-27938
END:VEVENT

END:VCALENDAR
