BEGIN:VCALENDAR
VERSION:2.0
PRODID:-//ChamberMaster//Event Calendar 2.0//EN
METHOD:PUBLISH
X-PUBLISHED-TTL:P3D
REFRESH-INTERVAL:P3D
CALSCALE:GREGORIAN
BEGIN:VEVENT
DTSTART:20190829T233000Z
DTEND:20190830T030000Z
X-MICROSOFT-CDO-ALLDAYEVENT:FALSE
SUMMARY:"Your Mom" at The Old Schoolhouse! Live Music on the Deck every Thursday! No Cover charge!
DESCRIPTION:Great trio from Madison! Come check them out!\n\n\n\nDrink Specials\, great tap beer selection\, homemade deep dish pizza served until 10pm!
X-ALT-DESC;FMTTYPE=text/html:Great trio from Madison! Come check them out!<br />\n<br />\nDrink Specials\, great tap beer selection\, homemade deep dish pizza served until 10pm!
LOCATION:The Old Schoolhouse E13887 Cty Rd DL Merrimac\, WI 53561
UID:e.1184.23130
SEQUENCE:3
DTSTAMP:20260423T141858Z
URL:http://members.saukprairie.com/events/details/your-mom-at-the-old-schoolhouse-live-music-on-the-deck-every-thursday-no-cover-charge-23130
END:VEVENT

END:VCALENDAR
