BEGIN:VCALENDAR
VERSION:2.0
PRODID:-//ChamberMaster//Event Calendar 2.0//EN
METHOD:PUBLISH
X-PUBLISHED-TTL:P3D
REFRESH-INTERVAL:P3D
CALSCALE:GREGORIAN
BEGIN:VEVENT
DTSTART:20180807T180000Z
DTEND:20180807T200000Z
X-MICROSOFT-CDO-ALLDAYEVENT:FALSE
SUMMARY:Youth Art Camp: Stuffed Pizza Plushie Pillows!
DESCRIPTION:Youth Art Camp: Stuffed Pizza Plushie Pillows!\n\nTues\, Wed\, and Thurs\, Aug 7-9\, 2018 | 1-3pm all three days | 590 Water St\, PdS\, WI\n\nIt's a pizza party at River Arts! In this three day art camp for kids ages 8-11\, we will learn the basics of sewing to create a giant\, "stuffed crust" pizza fiber pillow! We'll work with felt\, thread\, hand-stitching needles\, and all manner of buttons\, beads\, and baubles we can use as toppings for our pizza.\n\nDay 1: Drawing and cutting out a pattern for the crust\, sauce\, and batting filling. Work on pinning fabric together\, cutting it out\, stuffing\, and stitching closed\n\nDay 2: We'll add the sauce (more felt)\, and cut out felt scraps for cheese\, peppers\, onions\, mushrooms\, olives\, and any other toppings kids would like to add. Toppings will also be 3D   that means pinning them together\, stuffing\, and sewing shut all the shapes we make. We will also sew big red buttons on to be our pepperoni.\n\nDay 3: Finish sewing our toppings\, then work on attaching them to the pizza. Add puffy paint for parmesan cheese or red pepper flakes if desired. Then\, celebrate with a PIZZA PARTY! On the last day of art camp\, we'll order in pizza to celebrate our creations!
X-ALT-DESC;FMTTYPE=text/html:<p><strong>Youth Art Camp: Stuffed Pizza Plushie Pillows!</strong></p>\n\n<p><strong>Tues\, Wed\, and Thurs\, Aug 7-9\, 2018 | 1-3pm all three days | 590 Water St\, PdS\, WI</strong></p>\n\n<p>It&rsquo\;s a pizza party at River Arts! In this three day art camp for kids ages 8-11\, we will learn the basics of sewing to create a giant\, &ldquo\;stuffed crust&rdquo\; pizza fiber pillow! We&rsquo\;ll work with felt\, thread\, hand-stitching needles\, and all manner of buttons\, beads\, and baubles we can use as toppings for our pizza.</p>\n\n<p><strong>Day 1</strong>: Drawing and cutting out a pattern for the crust\, sauce\, and batting filling. Work on pinning fabric together\, cutting it out\, stuffing\, and stitching closed</p>\n\n<p><strong>Day 2</strong>: We&rsquo\;ll add the sauce (more felt)\, and cut out felt scraps for cheese\, peppers\, onions\, mushrooms\, olives\, and any other toppings kids would like to add. Toppings will also be 3D &ndash\; that means pinning them together\, stuffing\, and sewing shut all the shapes we make. We will also sew big red buttons on to be our pepperoni.</p>\n\n<p><strong>Day 3</strong>: Finish sewing our toppings\, then work on attaching them to the pizza. Add puffy paint for parmesan cheese or red pepper flakes if desired. Then\, celebrate with a<strong>&nbsp\;PIZZA PARTY!</strong>&nbsp\;On the last day of art camp\, we&rsquo\;ll order in pizza to celebrate our creations!</p>\n
LOCATION:River Arts on Water Gallery 590 Water St Prairie du Sac\, WI 53578
UID:e.1184.18159
SEQUENCE:3
DTSTAMP:20260424T064933Z
URL:http://members.saukprairie.com/events/details/youth-art-camp-stuffed-pizza-plushie-pillows-18159
END:VEVENT

END:VCALENDAR
