BEGIN:VCALENDAR
VERSION:2.0
PRODID:-//ChamberMaster//Event Calendar 2.0//EN
METHOD:PUBLISH
X-PUBLISHED-TTL:P3D
REFRESH-INTERVAL:P3D
CALSCALE:GREGORIAN
BEGIN:VEVENT
DTSTART:20190813T230000Z
DTEND:20190814T000000Z
X-MICROSOFT-CDO-ALLDAYEVENT:FALSE
SUMMARY:Youth Art Class: Paper Alligators
DESCRIPTION:Youth Class: Paper Alligators with Amelia Nachreiner\n\nTuesday\, August 13\, 2019 | 6-7pm | Ages 6+\n\n590 Water St\, Prairie du Sac\, WI 53578\n\n\n\nJoin us for this fun kids' workshop at the River Arts Studio! This class is meant for kids ages 6+ (parents' attendance is optional). Each child will learn how to create and customize their very own paper alligator! All materials are provided\, just bring your imagination! We'll also provide "dirt cups" snacks to go along with the swamp project! (Nut free\, but contains gluten).
X-ALT-DESC;FMTTYPE=text/html:<p><strong>Youth Class: Paper Alligators with Amelia Nachreiner</strong></p>\n\n<p><strong>Tuesday\, August 13\, 2019 | 6-7pm | Ages 6+</strong></p>\n\n<p><strong>590 Water St\, Prairie du Sac\, WI 53578</strong><br />\n<br />\n<span style="color:rgb(0\, 0\, 0)\; font-family:arial\,helvetica\,sans-serif">Join us for this fun kids&rsquo\; workshop at the River Arts Studio! This class is meant for kids ages 6+ (parents&rsquo\; attendance is optional). Each child will learn how to create and customize their very own paper alligator! All materials are provided\, just bring your imagination! We&rsquo\;ll also provide &ldquo\;dirt cups&rdquo\; snacks to go along with the swamp project! (Nut free\, but contains gluten).</span></p>\n
LOCATION:River Arts Studio 590 Water St Prairie du SAc
UID:e.1184.22362
SEQUENCE:3
DTSTAMP:20260423T124519Z
URL:http://members.saukprairie.com/events/details/youth-art-class-paper-alligators-22362
END:VEVENT

END:VCALENDAR
