BEGIN:VCALENDAR
VERSION:2.0
PRODID:-//ChamberMaster//Event Calendar 2.0//EN
METHOD:PUBLISH
X-PUBLISHED-TTL:P3D
REFRESH-INTERVAL:P3D
CALSCALE:GREGORIAN
BEGIN:VEVENT
DTSTART:20191022T230000Z
DTEND:20191023T000000Z
X-MICROSOFT-CDO-ALLDAYEVENT:FALSE
SUMMARY:Youth Art Class: Pumpkin Decorating
DESCRIPTION:Youth Workshop: Pumpkin Decorating with Kristina Coopman\n\nTuesday\, October 22\, 2019 | 6-7pm | Ages 5+\n\n590 Water St\, Prairie du Sac\, WI 53578\n\n\n\nJoin instructor Kristina Coopman to get into the spooky spirit of Halloween! We provide the pumpkins and supplies\, you choose the design! Students can decorate their pumpkins with paint\, markers\, paper props\, and more. Students 5-7 years old require a chaperone present\; 8+ can come alone.
X-ALT-DESC;FMTTYPE=text/html:<p><strong>Youth Workshop: Pumpkin Decorating with Kristina Coopman</strong></p>\n\n<p><strong>Tuesday\, October 22\, 2019 | 6-7pm | Ages 5+</strong></p>\n\n<p><strong>590 Water St\, Prairie du Sac\, WI 53578</strong><br>\n<br>\n<span style="color:rgb(0\, 0\, 0)\; font-family:arial\,helvetica\,sans-serif">Join instructor Kristina Coopman to get into the spooky spirit of Halloween! We provide the pumpkins and supplies\, you choose the design! Students can decorate their pumpkins with paint\, markers\, paper props\, and more. Students 5-7 years old require a chaperone present\; 8+ can come alone.</span></p>\n
LOCATION:River Arts Studio 590 Water St Prairie du Sac
UID:e.1184.22368
SEQUENCE:3
DTSTAMP:20260423T111905Z
URL:http://members.saukprairie.com/events/details/youth-art-class-pumpkin-decorating-22368
END:VEVENT

END:VCALENDAR
