BEGIN:VCALENDAR
VERSION:2.0
PRODID:-//ChamberMaster//Event Calendar 2.0//EN
METHOD:PUBLISH
X-PUBLISHED-TTL:P3D
REFRESH-INTERVAL:P3D
CALSCALE:GREGORIAN
BEGIN:VEVENT
DTSTART:20191113T000000Z
DTEND:20191113T010000Z
X-MICROSOFT-CDO-ALLDAYEVENT:FALSE
SUMMARY:Youth Art Class: Turkey Headbands!
DESCRIPTION:Youth Workshop: Turkey Headbands with Amelia Nachreiner\n\nTuesday\, November 12\, 2019 | 6-7pm | Ages 6+\n\n590 Water St\, Prairie du Sac\, WI 53578\n\n\n\nJoin us for this Thanksgiving themed kids' workshop at the River Arts Studio! This class is meant for kids ages 6+\, parents and family are encouraged to attend. Each child or adult will learn how to create and customize their very own turkey headband! All materials are provided\, just bring your imagination! Thanksgiving themed snacks will be available. Start practicing your turkey gobble!
X-ALT-DESC;FMTTYPE=text/html:<p><strong>Youth Workshop: Turkey Headbands with Amelia Nachreiner</strong></p>\n\n<p><strong>Tuesday\, November 12\, 2019 | 6-7pm</strong><strong>&nbsp\;| Ages 6+</strong></p>\n\n<p><strong>590 Water St\, Prairie du Sac\, WI 53578</strong><br />\n<br />\n<span style="color:rgb(0\, 0\, 0)\; font-family:arial\,helvetica\,sans-serif">Join us for this Thanksgiving themed kids&rsquo\; workshop at the River Arts Studio! This class is meant for kids ages 6+\, parents and family are encouraged to attend. Each child or adult will learn how to create and customize their very own turkey headband! All materials are provided\, just bring your imagination! Thanksgiving themed snacks will be available. Start practicing your turkey gobble!</span></p>\n
LOCATION:River Arts Studio 590 Water St Prairie du Sac
UID:e.1184.22370
SEQUENCE:3
DTSTAMP:20260423T085709Z
URL:http://members.saukprairie.com/events/details/youth-art-class-turkey-headbands-22370
END:VEVENT

END:VCALENDAR
