BEGIN:VCALENDAR
VERSION:2.0
PRODID:-//ChamberMaster//Event Calendar 2.0//EN
METHOD:PUBLISH
X-PUBLISHED-TTL:P3D
REFRESH-INTERVAL:P3D
CALSCALE:GREGORIAN
BEGIN:VEVENT
DTSTART:20160801T130000Z
DTEND:20160801T210000Z
X-MICROSOFT-CDO-ALLDAYEVENT:FALSE
SUMMARY:Youth Mental Health First Aid
DESCRIPTION:Youth Mental Health First Aid\, is being brought into your community by the school district of Sauk Prairie and is free due to a grant through the federal government called Project AWARE. This training is for parents in the community\, businesses\, youth serving organizations\, clubs\, and anyone that cares about the mental health needs of youth ages 12-25. It teaches participants the basic signs of a mental health crisis and then what to do with that youth once it is identified. It will take place the district administration building at 440 13th Street South\, Registrations can be made by calling Terry Plank at 608-643-5989.
X-ALT-DESC;FMTTYPE=text/html:<span style="font-family:arial\,sans-serif\;"><span style="font-size:10.0pt\;">Youth Mental Health First Aid\, is being brought into your community by the school district of Sauk Prairie and is free due to a grant through the federal government called Project AWARE. This training is for parents in the community\, businesses\, youth serving organizations\, clubs\, and anyone that cares about the mental health needs of youth ages 12-25. It teaches participants the basic signs of a mental health crisis and then what to do with that youth once it is identified. It will take place the district administration building at 440 13th Street South\, Registrations can be made by calling Terry Plank at 608-643-5989.&nbsp\;</span></span>
LOCATION:
UID:e.1184.8853
SEQUENCE:3
DTSTAMP:20260425T210157Z
URL:http://members.saukprairie.com/events/details/youth-mental-health-first-aid-08-01-2016-8853
END:VEVENT

END:VCALENDAR
