BEGIN:VCALENDAR
VERSION:2.0
PRODID:-//ChamberMaster//Event Calendar 2.0//EN
METHOD:PUBLISH
X-PUBLISHED-TTL:P3D
REFRESH-INTERVAL:P3D
CALSCALE:GREGORIAN
BEGIN:VEVENT
DTSTART:20200111T000000Z
DTEND:20200111T010000Z
X-MICROSOFT-CDO-ALLDAYEVENT:FALSE
SUMMARY:Youth Paint Night
DESCRIPTION:Jyneal will guide kids through creating a unique acrylic painting on canvas from start to finish! We'll work on color mixing\, paint texture techniques\, and have a blast along the way! Juice and nut-free cookies included. Stay tuned for each of the painting subjects to be announced soon! All classes are standalone   register for just one\, or all of them!
X-ALT-DESC;FMTTYPE=text/html:<span style="color:rgb(0\, 0\, 0)\; font-family:arial\,helvetica\,sans-serif">Jyneal will guide kids through creating a unique acrylic painting on canvas from start to finish! We&rsquo\;ll work on color mixing\, paint texture techniques\, and have a blast along the way! Juice and nut-free cookies included. Stay tuned for each of the painting subjects to be announced soon! All classes are standalone &ndash\; register for just one\, or all of them!</span>
LOCATION:590 Water St\, Prairie du Sac\, WI
UID:e.1184.23753
SEQUENCE:3
DTSTAMP:20260423T053912Z
URL:http://members.saukprairie.com/events/details/youth-paint-night-01-10-2020-23753
END:VEVENT

END:VCALENDAR
