BEGIN:VCALENDAR
VERSION:2.0
PRODID:-//ChamberMaster//Event Calendar 2.0//EN
METHOD:PUBLISH
X-PUBLISHED-TTL:P3D
REFRESH-INTERVAL:P3D
CALSCALE:GREGORIAN
BEGIN:VEVENT
DTSTART:20191018T230000Z
DTEND:20191019T000000Z
X-MICROSOFT-CDO-ALLDAYEVENT:FALSE
SUMMARY:Youth Paint Night
DESCRIPTION:Jyneal will guide kids through creating a unique acrylic painting on canvas from start to finish! We'll work on color mixing\, paint texture techniques\, and have a blast along the way! Juice and nut-free cookies included. Stay tuned for each of the painting subjects to be announced soon! All classes are standalone   register for just one\, or all of them!\nClass dates:\n\n\n\n-Friday\, October 18\, 2019\n\n-Friday\, November 8\, 2019\n\n-Friday\, January 10\, 2020\n\n-Saturday\, February 8\, 2020\n\n-Saturday\, March 7\, 2020\n\n-Friday\, April 10\, 2020
X-ALT-DESC;FMTTYPE=text/html:<span style="color:rgb(0\, 0\, 0)\; font-family:arial\,helvetica\,sans-serif">Jyneal will guide kids through creating a unique acrylic painting on canvas from start to finish! We&rsquo\;ll work on color mixing\, paint texture techniques\, and have a blast along the way! Juice and nut-free cookies included. Stay tuned for each of the painting subjects to be announced soon! All classes are standalone &ndash\; register for just one\, or all of them!</span>\n<p><strong>Class dates:</strong></p>\n\n<div>\n<div>\n<p>-Friday\, October 18\, 2019</p>\n\n<p>-Friday\, November 8\, 2019</p>\n\n<p>-Friday\, January 10\, 2020</p>\n\n<p>-Saturday\, February 8\, 2020</p>\n\n<p>-Saturday\, March 7\, 2020</p>\n\n<p>-Friday\, April 10\, 2020</p>\n</div>\n</div>\n
LOCATION:590 Water St\, Prairie du Sac\, WI
UID:e.1184.23591
SEQUENCE:3
DTSTAMP:20260423T095458Z
URL:http://members.saukprairie.com/events/details/youth-paint-night-23591
END:VEVENT

END:VCALENDAR
