BEGIN:VCALENDAR
VERSION:2.0
PRODID:-//ChamberMaster//Event Calendar 2.0//EN
METHOD:PUBLISH
X-PUBLISHED-TTL:P3D
REFRESH-INTERVAL:P3D
CALSCALE:GREGORIAN
BEGIN:VEVENT
DTSTART:20230513T150000Z
DTEND:20230513T160000Z
X-MICROSOFT-CDO-ALLDAYEVENT:FALSE
SUMMARY:Youth Paint Night Special: Mom & Me
DESCRIPTION:Instructor Jyneal will guide kids through creating a unique acrylic painting on 12 12  canvas from start to finish! We'll work on color mixing\, paint texture techniques\, and have a blast along the way! Celebrate mom by working together on two 12 12 paintings\, led by instructor Jyneal Flad of Fearless Paint Nights. Each registration includes one adult and one child\, two canvases\, brushes\, paint\, aprons\, and instructor.
X-ALT-DESC;FMTTYPE=text/html:Instructor Jyneal will guide kids through creating a unique acrylic painting on 12&times\;12&Prime\; canvas from start to finish! We&rsquo\;ll work on color mixing\, paint texture techniques\, and have a blast along the way! Celebrate mom by working together on two 12&times\;12 paintings\, led by instructor Jyneal Flad of Fearless Paint Nights. Each registration includes one adult and one child\, two canvases\, brushes\, paint\, aprons\, and instructor.
LOCATION:590 Water St\, Prairie du Sac\, 53578
UID:e.1184.28241
SEQUENCE:3
DTSTAMP:20260420T132045Z
URL:http://members.saukprairie.com/events/details/youth-paint-night-special-mom-me-28241
END:VEVENT

END:VCALENDAR
