BEGIN:VCALENDAR
VERSION:2.0
PRODID:-//ChamberMaster//Event Calendar 2.0//EN
METHOD:PUBLISH
X-PUBLISHED-TTL:P3D
REFRESH-INTERVAL:P3D
CALSCALE:GREGORIAN
BEGIN:VEVENT
DTSTART:20230204T160000Z
DTEND:20230204T180000Z
X-MICROSOFT-CDO-ALLDAYEVENT:FALSE
SUMMARY:Youth Workshop: DIY Valentines for Sauk Prairie Seniors
DESCRIPTION:In this drop-in workshop\, students of any age are invited to make paper valentines for Sauk Prairie seniors. Instructor Kate Franzmann will be on hand to provide guidance and ideas\, but each valentine will be unique. We'll provide a variety of supplies\, and students can use their creativity and imagination to create valentines that will be delivered to local senior living facilities.\n\nNo advance registration required. The class time is drop-in\, so you do not have to be present for the whole two hours. Basic supplies provided\, but if you have something special you'd like to use\, feel free to bring it along!\n\n\n\nhttps://www.riverartsinc.org/valentines/
X-ALT-DESC;FMTTYPE=text/html:<p>In this drop-in workshop\, students of any age are invited to make paper valentines for Sauk Prairie seniors. Instructor Kate Franzmann will be on hand to provide guidance and ideas\, but each valentine will be unique. We&rsquo\;ll provide a variety of supplies\, and students can use their creativity and imagination to create valentines that will be delivered to local senior living facilities.</p>\n\n<p>No advance registration required. The class time is drop-in\, so you do not have to be present for the whole two hours. Basic supplies provided\, but if you have something special you&rsquo\;d like to use\, feel free to bring it along!<br />\n<br />\nhttps://www.riverartsinc.org/valentines/</p>\n
LOCATION:590 Water St\, Prairie Du Sac\, WI 53578
UID:e.1184.28182
SEQUENCE:3
DTSTAMP:20260420T180604Z
URL:http://members.saukprairie.com/events/details/youth-workshop-diy-valentines-for-sauk-prairie-seniors-28182
END:VEVENT

END:VCALENDAR
