BEGIN:VCALENDAR
VERSION:2.0
PRODID:-//ChamberMaster//Event Calendar 2.0//EN
METHOD:PUBLISH
X-PUBLISHED-TTL:P3D
REFRESH-INTERVAL:P3D
CALSCALE:GREGORIAN
BEGIN:VEVENT
DTSTART:20190420T150000Z
DTEND:20190420T160000Z
X-MICROSOFT-CDO-ALLDAYEVENT:FALSE
SUMMARY:Youth Workshop: Easter Egg Surprise!
DESCRIPTION:Youth Art Workshop: Easter Egg Surprise\n\nSaturday\, April 20\, 2019 | 10-11am | 590 Water St\, Prairie du Sac\, WI\n\nRegistration: $10 per team\n\nJoin us for this fun kids' workshop at River Arts! This class is meant for kids ages 5-8 to take along with a parent or guardian.\n\nJoin your little one in a fun Easter egg craft project! Your instructor will guide you through this simple but fun process and you'll take home 2-3 yarn eggs\, each with a special surprise inside!  All supplies included. \n\n*Aprons provided but be prepared to roll up your sleeves and enjoy the gluey mess!\n\nEach team should be one child + one adult. For multiple children\, please have another parent or adult come along.
X-ALT-DESC;FMTTYPE=text/html:<p><strong>Youth Art Workshop: Easter&nbsp\;Egg&nbsp\;Surprise</strong></p>\n\n<p><strong>Saturday\, April 20\, 2019 | 10-11am | 590 Water St\, Prairie du Sac\, WI</strong></p>\n\n<p><strong>Registration: $10 per team</strong></p>\n\n<p>Join us for this fun kids&rsquo\; workshop at River Arts! This class is meant for kids ages 5-8 to take along with a parent or guardian.</p>\n\n<p>Join your little one in a fun Easter egg craft project! Your instructor will guide you through this simple but fun process and you&rsquo\;ll take home 2-3 yarn eggs\, each with a special surprise inside!&nbsp\; All supplies included.&nbsp\;</p>\n\n<p>*Aprons provided but be prepared to roll up your sleeves and enjoy the gluey mess!</p>\n\n<p>Each team should be one child + one adult. For multiple children\, please have another parent or adult come along.</p>\n
LOCATION:River Arts on Water Studio 590 Water St\, Prairie du Sac\, WI
UID:e.1184.21989
SEQUENCE:3
DTSTAMP:20260423T184028Z
URL:http://members.saukprairie.com/events/details/youth-workshop-easter-egg-surprise-21989
END:VEVENT

END:VCALENDAR
