BEGIN:VCALENDAR
VERSION:2.0
PRODID:-//ChamberMaster//Event Calendar 2.0//EN
METHOD:PUBLISH
X-PUBLISHED-TTL:P3D
REFRESH-INTERVAL:P3D
CALSCALE:GREGORIAN
BEGIN:VEVENT
DTSTART:20191211T000000Z
DTEND:20191211T010000Z
X-MICROSOFT-CDO-ALLDAYEVENT:FALSE
SUMMARY:Youth Workshop: Painted Ornaments
DESCRIPTION:Join us for this fun kids' workshop at River Arts! This class is meant for kids ages 5-10 to take along with a parent or guardian. Each team of artists will work together to create up to three ornaments\, using the fingerprints of the child and the steady hand of the parent/guardian to make painted snowmen!  Class also includes hot chocolate for all attendees. All materials provided\; please wear clothing you wouldn't mind getting paint on.\n\nEach team should be one child + one adult. For multiple children\, please have another parent or adult come along.
X-ALT-DESC;FMTTYPE=text/html:<p>Join us for this fun kids&rsquo\; workshop at River Arts! This class is meant for kids ages 5-10 to take&nbsp\;<strong>along with a parent or guardian</strong>. Each team of artists will work together to create up to three ornaments\, using the fingerprints of the child and the steady hand of the parent/guardian to make painted snowmen!&nbsp\; Class also includes hot chocolate for all attendees. All materials provided\; please wear clothing you wouldn&rsquo\;t mind getting paint on.</p>\n\n<p>Each team should be one child + one adult. For multiple children\, please have another parent or adult come along.</p>\n
LOCATION:590 Water St\, Prairie du Sac\, WI 53578
UID:e.1184.23752
SEQUENCE:3
DTSTAMP:20260423T070333Z
URL:http://members.saukprairie.com/events/details/youth-workshop-painted-ornaments-23752
END:VEVENT

END:VCALENDAR
