BEGIN:VCALENDAR
VERSION:2.0
PRODID:-//ChamberMaster//Event Calendar 2.0//EN
METHOD:PUBLISH
X-PUBLISHED-TTL:P3D
REFRESH-INTERVAL:P3D
CALSCALE:GREGORIAN
BEGIN:VEVENT
DTSTART:20190914T180000Z
DTEND:20190914T210000Z
X-MICROSOFT-CDO-ALLDAYEVENT:FALSE
SUMMARY:Youth Workshop: Starry Prairie Paper Murals
DESCRIPTION:Join instructors Mary and Rhonda as we celebrate "Starry Prairie"\, a new mural on the back of River Arts on Water Gallery. The mural\, created by Sauk Prairie artists Mary Dickey and Rhonda Nass\, celebrates the Great Sauk State Trail and various Wisconsin native species. Students in this class will walk a portion of the trail with Mary and Rhonda\, identifying native plant species. Back in the studio\, they'll use a technique of layered paper to mimic the mural's style. All supplies and aprons provided\, please feel free to also send along a smock. Parents not required to attend.
X-ALT-DESC;FMTTYPE=text/html:<span style="color:rgb(0\, 0\, 0)\; font-family:arial\,helvetica\,sans-serif">Join instructors Mary and Rhonda as we celebrate &ldquo\;Starry Prairie&rdquo\;\, a new mural on the back of River Arts on Water Gallery. The mural\, created by Sauk Prairie artists Mary Dickey and Rhonda Nass\, celebrates the Great Sauk State Trail and various Wisconsin native species. Students in this class will walk a portion of the trail with Mary and Rhonda\, identifying native plant species. Back in the studio\, they&rsquo\;ll use a technique of layered paper to mimic the mural&rsquo\;s style. All supplies and aprons provided\, please feel free to also send along a smock. Parents not required to attend.</span>
LOCATION:590 Water St\, Prairie du Sac\, WI
UID:e.1184.23157
SEQUENCE:3
DTSTAMP:20260423T113337Z
URL:http://members.saukprairie.com/events/details/youth-workshop-starry-prairie-paper-murals-23157
END:VEVENT

END:VCALENDAR
