BEGIN:VCALENDAR
VERSION:2.0
PRODID:-//ChamberMaster//Event Calendar 2.0//EN
METHOD:PUBLISH
X-PUBLISHED-TTL:P3D
REFRESH-INTERVAL:P3D
CALSCALE:GREGORIAN
BEGIN:VEVENT
DTSTART:20191113T000000Z
DTEND:20191113T010000Z
X-MICROSOFT-CDO-ALLDAYEVENT:FALSE
SUMMARY:Youth Workshop: Turkey Headbands
DESCRIPTION:Join us for this Thanksgiving themed kids' workshop at the River Arts Studio! This class is meant for kids ages 6+\, parents and family are encouraged to attend. Each child or adult will learn how to create and customize their very own turkey headband! All materials are provided\, just bring your imagination! Thanksgiving themed snacks will be available. Start practicing your turkey gobble!
X-ALT-DESC;FMTTYPE=text/html:<span style="color:rgb(0\, 0\, 0)\; font-family:arial\,helvetica\,sans-serif">Join us for this Thanksgiving themed kids&rsquo\; workshop at the River Arts Studio! This class is meant for kids ages 6+\, parents and family are encouraged to attend. Each child or adult will learn how to create and customize their very own turkey headband! All materials are provided\, just bring your imagination! Thanksgiving themed snacks will be available. Start practicing your turkey gobble!</span>
LOCATION:590 Water St\, Prairie du Sac\, WI 53578
UID:e.1184.23615
SEQUENCE:3
DTSTAMP:20260423T083232Z
URL:http://members.saukprairie.com/events/details/youth-workshop-turkey-headbands-23615
END:VEVENT

END:VCALENDAR
