BEGIN:VCALENDAR
VERSION:2.0
PRODID:-//ChamberMaster//Event Calendar 2.0//EN
METHOD:PUBLISH
X-PUBLISHED-TTL:P3D
REFRESH-INTERVAL:P3D
CALSCALE:GREGORIAN
BEGIN:VEVENT
DTSTART:20161030T000000Z
DTEND:20161030T045500Z
X-MICROSOFT-CDO-ALLDAYEVENT:FALSE
SUMMARY:Zompocalypse: The Zombie Invasion of the Treinen Farm Corn Maze
DESCRIPTION:Experience an evening dedicated to all things zombie. Come in zombie attire\, and relish the simple pleasures of shambling\, moaning\, and terrifying survivors. Or come as a battle-weary human survivor\, and endure zombie-appropriate dance music\, zombie-themed entertainment\, food\, bonfires\, and losing yourself in a zombie-infested cornfield.\n\n\n\nHordes of zombies and survivors visit the Treinen Farm Zompocalypse every year to scare and be scared. \n\n\n\nYou've been warned.
X-ALT-DESC;FMTTYPE=text/html:<span style="color: rgb(75\, 79\, 86)\; font-family: helvetica\, arial\, sans-serif\; font-size: 14px\; background-color: rgb(255\, 255\, 255)\;">Experience an evening dedicated to all things zombie. Come in zombie attire\, and relish the simple pleasures of shambling\, moaning\, and terrifying survivors. Or come as a battle-weary human survivor\, and endure zombie-appropriate dance music\, zombie-themed entertainment\, food\, bonfires\, and losing yourself in a zombie-infested cornfield.</span><br style="color: rgb(75\, 79\, 86)\; font-family: helvetica\, arial\, sans-serif\; font-size: 14px\; background-color: rgb(255\, 255\, 255)\;" />\n<br style="color: rgb(75\, 79\, 86)\; font-family: helvetica\, arial\, sans-serif\; font-size: 14px\; background-color: rgb(255\, 255\, 255)\;" />\n<span style="color: rgb(75\, 79\, 86)\; font-family: helvetica\, arial\, sans-serif\; font-size: 14px\; background-color: rgb(255\, 255\, 255)\;">Hordes of zombies and survivors visit the Treinen Farm Zompocalypse every year to scare and be scared.&nbsp\;</span><br style="color: rgb(75\, 79\, 86)\; font-family: helvetica\, arial\, sans-serif\; font-size: 14px\; background-color: rgb(255\, 255\, 255)\;" />\n<br style="color: rgb(75\, 79\, 86)\; font-family: helvetica\, arial\, sans-serif\; font-size: 14px\; background-color: rgb(255\, 255\, 255)\;" />\n<span style="color: rgb(75\, 79\, 86)\; font-family: helvetica\, arial\, sans-serif\; font-size: 14px\; background-color: rgb(255\, 255\, 255)\;">You&rsquo\;ve been warned.</span>
LOCATION:pin Treinen Farm Corn Maze and Pumpkin Patch W12420 State Road 60\, Lodi\, Wisconsin 53555
UID:e.1184.9429
SEQUENCE:3
DTSTAMP:20260425T174802Z
URL:http://members.saukprairie.com/events/details/zompocalypse-the-zombie-invasion-of-the-treinen-farm-corn-maze-9429
END:VEVENT

END:VCALENDAR
