BEGIN:VCALENDAR
VERSION:2.0
PRODID:-//ChamberMaster//Event Calendar 2.0//EN
METHOD:PUBLISH
X-PUBLISHED-TTL:P3D
REFRESH-INTERVAL:P3D
CALSCALE:GREGORIAN
BEGIN:VEVENT
DTSTART:20210714T180000Z
DTEND:20210714T190000Z
X-MICROSOFT-CDO-ALLDAYEVENT:FALSE
SUMMARY:Zoozort
DESCRIPTION:Join us for an afternoon of animal "Tails & Tales"! Come meet Noelle and her amazing Zoozort animals. They'll provide a memorable\, fun-filled educational experience for the whole family. Space is limited. Registration is required. Call 608-643-8346 or visit the library to sign up.
X-ALT-DESC;FMTTYPE=text/html:<span style="color:rgb(0\, 0\, 0)\; font-family:arial\; font-size:11pt">Join us for an afternoon of animal &quot\;Tails &amp\; Tales&quot\;! Come meet Noelle and her amazing Zoozort animals. They&#39\;ll provide a memorable\, fun-filled educational experience for the whole family. Space is limited. Registration is required. Call 608-643-8346 or visit the library to sign up.</span>
LOCATION:615 Phillips Blvd\, Sauk City
UID:e.1184.26663
SEQUENCE:3
DTSTAMP:20260422T021024Z
URL:http://members.saukprairie.com/events/details/zoozort-26663
END:VEVENT

END:VCALENDAR
