BEGIN:VCALENDAR
VERSION:2.0
PRODID:-//ChamberMaster//Event Calendar 2.0//EN
METHOD:PUBLISH
X-PUBLISHED-TTL:P3D
REFRESH-INTERVAL:P3D
CALSCALE:GREGORIAN
BEGIN:VEVENT
DTSTART:20180720T153000Z
DTEND:20180720T163000Z
X-MICROSOFT-CDO-ALLDAYEVENT:FALSE
SUMMARY:Zoozorts!
DESCRIPTION:Come meet Oliver the Kinkajou and many more amazing Zoozort animals.\n\n\n\nWe share our love of animals with you\, providing a memorable\, fun-filled educational experience with live animals.
X-ALT-DESC;FMTTYPE=text/html:Come meet Oliver the Kinkajou and many more amazing Zoozort animals.<br />\n<br />\nWe share our love of animals with you\, providing a memorable\, fun-filled educational experience with live animals.
LOCATION:515 Water St Sauk City\, WI 53583
UID:e.1184.19395
SEQUENCE:3
DTSTAMP:20260424T082449Z
URL:http://members.saukprairie.com/events/details/zoozorts-19395
END:VEVENT

END:VCALENDAR
